BEGIN:VCALENDAR
VERSION:2.0
PRODID:-//ChamberMaster//Event Calendar 2.0//EN
METHOD:PUBLISH
X-PUBLISHED-TTL:P3D
REFRESH-INTERVAL:P3D
CALSCALE:GREGORIAN
BEGIN:VEVENT
DTSTART:20190413T140000Z
DTEND:20190413T180000Z
X-MICROSOFT-CDO-ALLDAYEVENT:FALSE
SUMMARY:River Bandits Race to Home 5k and Fun Run
DESCRIPTION:The Quad Cities River Bandits annual "Race to Home" 5k and Fun Run is scheduled for Saturday\, April 13\, 2019! This unique race benefiting our Bandit Scholars program provides fun and fitness for the whole family! Packet Pick Up on 4/12 and 4/13! Raffles\, food\, and drink will be available in the party plaza post-race to celebrate!
X-ALT-DESC;FMTTYPE=text/html:The Quad Cities River Bandits annual &quot\;Race to Home&quot\; 5k and Fun Run is scheduled for Saturday\, April 13\, 2019! This unique race benefiting our Bandit Scholars program provides fun and fitness for the whole family! Packet Pick Up on 4/12 and 4/13! Raffles\, food\, and drink will be available in the party plaza post-race to celebrate!
LOCATION:Modern Woodmen Park
UID:e.2843.13749
SEQUENCE:3
DTSTAMP:20260422T182055Z
URL:https://member.quadcitieschamber.com/events/details/river-bandits-race-to-home-5k-and-fun-run-13749
END:VEVENT

END:VCALENDAR
