BEGIN:VCALENDAR
VERSION:2.0
PRODID:-//ChamberMaster//Event Calendar 2.0//EN
METHOD:PUBLISH
X-PUBLISHED-TTL:P3D
REFRESH-INTERVAL:P3D
CALSCALE:GREGORIAN
BEGIN:VEVENT
DTSTART:20110819T060000Z
DTEND:20110821T050000Z
X-MICROSOFT-CDO-ALLDAYEVENT:FALSE
SUMMARY:River Roots Live 2011
DESCRIPTION:
X-ALT-DESC;FMTTYPE=text/html:
LOCATION:LeClaire Park\, Downtown Davenport
UID:e.2843.172
SEQUENCE:3
DTSTAMP:20260422T161608Z
URL:https://member.quadcitieschamber.com/events/details/river-roots-live-2011-08-19-2011-172
END:VEVENT

END:VCALENDAR
