BEGIN:VCALENDAR
VERSION:2.0
PRODID:-//ChamberMaster//Event Calendar 2.0//EN
METHOD:PUBLISH
X-PUBLISHED-TTL:P3D
REFRESH-INTERVAL:P3D
CALSCALE:GREGORIAN
BEGIN:VEVENT
DTSTART:20120817T160000Z
DTEND:20120818T050000Z
X-MICROSOFT-CDO-ALLDAYEVENT:FALSE
SUMMARY:River Roots Live Volunteer Sign Up
DESCRIPTION:River Roots Live is the Quad-Cities' premiere music festival featuring top national and regional bands along with incredible barbeque from award-winning rib-vendors. 30\,000 people packed the park in 2011 for the festival's great music\, mouth-watering barbeque\, and variety of family fun! This not-for-profit festival is produced by the Downtown Davenport Partnership\, a division of Quad Cities Chamber of Commerce\, with support from fellow non-profit partners Living Lands & Waters and River Music Experience.\n Friday: 11am - BBQ Rib Vendors Open  for lunch! Friday: 5:30pm - Music begins Saturday: 11am - Midnight Rain or Shine!  Click here for more details.
X-ALT-DESC;FMTTYPE=text/html:<DIV>River Roots Live is the Quad-Cities' premiere music festival featuring top national and regional bands along with incredible barbeque from award-winning rib-vendors. 30\,000 people packed the park in 2011 for the festival's great music\, mouth-watering barbeque\, and variety of family fun! This not-for-profit festival is produced by the <A href="http://www.downtowndavenport.com">Downtown Davenport Partnership</A>\, a division of <A href="http://www.quadcitieschamber.com">Quad Cities Chamber of Commerce</A>\, with support from fellow non-profit partners <A href="http://www.livinglandsandwaters.org">Living Lands &amp\; Waters</A> and <A href="http://www.rivermusicexperience.org">River Music Experience</A>.</DIV><DIV><BR>&nbsp\;</DIV><DIV>Friday: 11am - BBQ Rib Vendors Open&nbsp\; for lunch! </DIV><DIV>Friday: 5:30pm - Music begins </DIV><DIV>Saturday: 11am - Midnight Rain or Shine! </DIV><DIV>&nbsp\;</DIV><DIV><A style="COLOR: blue\; TEXT-DECORATION: underline" title="" dataFld=0:0 href="http://downtowndavenport.com/play/festivals/" target=_self>Click here</A> for more details. </DIV><DIV>&nbsp\;</DIV><DIV>&nbsp\;</DIV><DIV><A href="http://downtowndavenport.com/uploads/2012/04/BC.jpg" jQuery17207744565479821858="40"></A><A href="http://downtowndavenport.com/uploads/2012/04/BC.jpg" jQuery17203056747402941815="40"></A><A href="http://downtowndavenport.com/uploads/2012/04/BC.jpg" jQuery17207744565479821858="40"></A></DIV><DIV>&nbsp\;</DIV><DIV><A href="http://downtowndavenport.com/uploads/2012/04/BC.jpg" jQuery17207744565479821858="40"></A>&nbsp\;</DIV><DIV>&nbsp\;</DIV>
LOCATION:LeClaire Park - Downtown Davenport
UID:e.2843.385
SEQUENCE:3
DTSTAMP:20260421T202127Z
URL:https://member.quadcitieschamber.com/events/details/river-roots-live-volunteer-sign-up-08-17-2012-385
END:VEVENT

END:VCALENDAR
