BEGIN:VCALENDAR
VERSION:2.0
PRODID:-//ChamberMaster//Event Calendar 2.0//EN
METHOD:PUBLISH
X-PUBLISHED-TTL:P3D
REFRESH-INTERVAL:P3D
CALSCALE:GREGORIAN
BEGIN:VEVENT
DTSTART:20131106T220000Z
DTEND:20131106T223000Z
X-MICROSOFT-CDO-ALLDAYEVENT:FALSE
SUMMARY:Riverbend Signworks Grand Opening Ribbon Cutting
DESCRIPTION:Please join Riverbend Signworks in celebrating their grand opening on Wednesday\, November 6th at 4:00pm – Located at 4927 Utica Ridge Rd.  Davenport\, IA 52807 (Two buildings behind Osaka & Gold’s Gym).   Riverbend Signworks specializes is producing graphics and signs.  Their goal is to help businesses improve through revenue growth and better messaging.  Also\, with their latex printer\, Riverbend Signworks is an environmentally friendly business.   For more information please visit www.riverbendsignworks.com
X-ALT-DESC;FMTTYPE=text/html:<P style="MARGIN: 0in 0in 0pt" class=MsoNormal><FONT face=Calibri>Please join Riverbend Signworks in celebrating their grand opening on Wednesday\, November 6<SUP>th</SUP> at 4:00pm – Located at 4927 Utica Ridge Rd.<SPAN style="mso-spacerun: yes">&nbsp\; </SPAN>Davenport\, IA 52807 (Two buildings behind Osaka &amp\; Gold’s Gym).<SPAN style="mso-spacerun: yes">&nbsp\; </SPAN><?xml:namespace prefix = o ns = "urn:schemas-microsoft-com:office:office" /><o:p></o:p></FONT></P><P style="MARGIN: 0in 0in 0pt" class=MsoNormal><o:p><FONT face=Calibri>&nbsp\;</FONT></o:p></P><P style="MARGIN: 0in 0in 0pt" class=MsoNormal><FONT face=Calibri>Riverbend Signworks specializes is producing graphics and signs.<SPAN style="mso-spacerun: yes">&nbsp\; </SPAN>Their goal is to help businesses improve through revenue growth and better messaging.<SPAN style="mso-spacerun: yes">&nbsp\; </SPAN>Also\, with their latex printer\, Riverbend Signworks is an environmentally friendly business.<SPAN style="mso-spacerun: yes">&nbsp\; </SPAN><o:p></o:p></FONT></P><P style="MARGIN: 0in 0in 0pt" class=MsoNormal><o:p><FONT face=Calibri>&nbsp\;</FONT></o:p></P><P style="MARGIN: 0in 0in 0pt" class=MsoNormal><FONT face=Calibri>For more information please visit </FONT><A href="http://www.riverbendsignworks.com">www.riverbendsignworks.com</A><o:p></o:p></P><P>&nbsp\;</P>
LOCATION:Riverbend Signworks4927 Utica Ridge Rd. Davenport\, IA 52807
UID:e.2843.734
SEQUENCE:3
DTSTAMP:20260421T235509Z
URL:https://member.quadcitieschamber.com/events/details/riverbend-signworks-grand-opening-ribbon-cutting-11-06-2013-734
END:VEVENT

END:VCALENDAR
