BEGIN:VCALENDAR
VERSION:2.0
PRODID:-//ChamberMaster//Event Calendar 2.0//EN
METHOD:PUBLISH
X-PUBLISHED-TTL:P3D
REFRESH-INTERVAL:P3D
CALSCALE:GREGORIAN
BEGIN:VEVENT
DTSTART:20171006T170000Z
DTEND:20171006T210000Z
X-MICROSOFT-CDO-ALLDAYEVENT:FALSE
SUMMARY:Riverbend Signworks Open House
DESCRIPTION:Open House!\n\nRiverbend Signworks is celebrating one year at their location. Stop by to see the shop\, meet the team\, and enjoy some food. We will be raffling off a free custom banner\, money credit towards any future signage you need\, and various other prizes! Come see our brand new CNC router in action. We can't wait to see you there!\n\n\n\nRiverbend Signworks has decades of experince in the graphic communications business and will use this experience on the projects you entrust to us.\n\nWe believe that signs (small or large)\, are the most effective way to get your message out. Whether they are vehicle graphics (wraps or lettering)\, outoor or indoor signs\, electric illuminated signs\, or banners. Our goal isn't simply to make a sign for you\, but to understand and develop a message that meets your needs.\n\n\n\nOur Mission\n\nBy helping our customers solve their sign\, graphics\, and messaging needs\, with exceptional service and products\, Riverbend Signworks will be successful\, honor God\, support our family\, employees\, and community.
X-ALT-DESC;FMTTYPE=text/html:<span style="font-size:14px\;"><span style="font-family:arial\;"><strong>Open House!</strong><br />\n<span style="background-color: rgb(255\, 255\, 255)\; color: rgb(51\, 51\, 51)\;">Riverbend Signworks is celebrating one year at their location. Stop by to see the shop\, meet the team\, and enjoy some food. We will be raffling off a free custom banner\, money credit towards any future signage you need\, and various other prizes! Come see our brand new CNC router in action. We can&#39\;t wait to see you there!</span><br />\n<br />\n<span style="background-color: rgb(255\, 255\, 255)\; color: rgb(51\, 51\, 51)\;">Riverbend Signworks has decades of experince in the graphic communications business and will use this experience on the projects you entrust to us.</span><br />\n<span style="background-color: rgb(255\, 255\, 255)\; color: rgb(51\, 51\, 51)\;">We believe that signs (small or large)\, are the most effective way to get your message out. W</span><span style="background-color: rgb(255\, 255\, 255)\; color: rgb(51\, 51\, 51)\;">hether they are vehicle graphics (wraps or lettering)\, outoor or indoor signs\, electric illuminated signs\, or banners.</span><span style="background-color: rgb(255\, 255\, 255)\; color: rgb(51\, 51\, 51)\;">&nbsp\;Our goal isn&#39\;t simply to make a sign for you\, but to understand and develop a message that meets your needs.</span><br />\n<br />\n<span style="color: rgb(51\, 51\, 51)\;"><strong>Our Mission</strong><br />\n<em>By helping our customers solve their sign\, graphics\, and messaging needs\, with exceptional service and products\, Riverbend Signworks will be successful\, honor God\, support our family\, employees\, and community.</em></span></span></span>
LOCATION:979 40th Avenue Bettendorf\, IA 52722
UID:e.2843.8548
SEQUENCE:3
DTSTAMP:20260423T210132Z
URL:https://member.quadcitieschamber.com/events/details/riverbend-signworks-open-house-8548
END:VEVENT

END:VCALENDAR
