BEGIN:VCALENDAR
VERSION:2.0
PRODID:-//ChamberMaster//Event Calendar 2.0//EN
METHOD:PUBLISH
X-PUBLISHED-TTL:P3D
REFRESH-INTERVAL:P3D
CALSCALE:GREGORIAN
BEGIN:VEVENT
DTSTART:20190215T210000Z
DTEND:20190215T230000Z
X-MICROSOFT-CDO-ALLDAYEVENT:FALSE
SUMMARY:Riverfront Report Public Presentation
DESCRIPTION:The Downtown Davenport Partnership (DDP) and Figge Art Museum\, in cooperation with the City of Davenport\, are hosting a joint public meeting to present a proposal that integrates public art concepts in to the design and development of the RiverVision plan and ongoing riverfront improvements. Produced in conjunction with RDG Dahlquist Art Studio\, a division of RDG Planning & Design of Des Moines\, the plan focuses on the riverfront portion known as Main Street Landing from Harrison to Pershing Streets.\n\n\n\nThe joint public meeting will be held in the Figge Art Museum's Quad City Bank & Trust Grand Lobby on Friday\, February 15 at 3:00 p.m. Admission is free and the public is encouraged to attend and provide feedback.\n\n\n\nThe meeting is hosted by Mayor and City Council\, DDP Board\, and Figge Art Museum Board\, and includes additional stakeholders: Davenport Riverfront Improvement Commission\, Parks & Recreation Advisory Board\, Historic Preservation Commission\, Design Review Board\, and the Q2030 Riverfront Work Group.\n\n\n\nAll parties will see the proposal simultaneously with the public. This coalition of civic and private organizations has never met all at once\, which is itself a historic and exciting moment. \n\n\n\nThe goal of the project is to integrate an artistic vision in to the ongoing design and development of the RiverVision plan\, ensuring greater opportunities for the public to engage and enjoy the Mississippi riverfront and downtown. Further\, the proposal seeks to develop an overall story for the riverfront that will establish it as an iconic destination and bolster its connection with downtown Davenport and the entire\n\nQuad Cities.\n\n\n\nThis update to RiverVision capstones a thorough process\, which includes much public participation and excitement. It has great potential to create new private and public investment for years to come. The hard work of building public support\, fundraising models\, and execution of the big idea remain\, but it all starts with a shared vision.\n\n\n\nRDG Dahlquist Art Studio is the recipient of numerous national awards for public art and has completed well-known projects across Iowa and throughout the United States\, including the celebrated High Trestle Trail Bridge over the Des Moines River.
X-ALT-DESC;FMTTYPE=text/html:<span style="color: rgb(29\, 33\, 41)\; font-family: Helvetica\, Arial\, sans-serif\; font-size: 14px\; white-space: pre-wrap\;">The Downtown Davenport Partnership (DDP) and Figge Art Museum\, in cooperation with the City of Davenport\, are hosting a joint public meeting to present a proposal that integrates public art concepts in to the design and development of the RiverVision plan and ongoing riverfront improvements. Produced in conjunction with RDG Dahlquist Art Studio\, a division of RDG Planning &amp\; Design of Des Moines\, the plan focuses on the riverfront portion known as Main Street Landing from Harrison to Pershing Streets.</span><br style="color: rgb(29\, 33\, 41)\; font-family: Helvetica\, Arial\, sans-serif\; font-size: 14px\; white-space: pre-wrap\;" />\n<br style="color: rgb(29\, 33\, 41)\; font-family: Helvetica\, Arial\, sans-serif\; font-size: 14px\; white-space: pre-wrap\;" />\n<span style="color: rgb(29\, 33\, 41)\; font-family: Helvetica\, Arial\, sans-serif\; font-size: 14px\; white-space: pre-wrap\;">The joint public meeting will be held in the Figge Art Museum&rsquo\;s Quad City Bank &amp\; Trust Grand Lobby on Friday\, February 15 at 3:00 p.m. Admission is free and the public is encouraged to attend and provide feedback.</span><br style="color: rgb(29\, 33\, 41)\; font-family: Helvetica\, Arial\, sans-serif\; font-size: 14px\; white-space: pre-wrap\;" />\n<br style="color: rgb(29\, 33\, 41)\; font-family: Helvetica\, Arial\, sans-serif\; font-size: 14px\; white-space: pre-wrap\;" />\n<span style="color: rgb(29\, 33\, 41)\; font-family: Helvetica\, Arial\, sans-serif\; font-size: 14px\; white-space: pre-wrap\;">The meeting is hosted by Mayor and City Council\, DDP Board\, and Figge Art Museum Board\, and includes additional stakeholders: Davenport Riverfront Improvement Commission\, Parks &amp\; Recreation Advisory Board\, Historic Preservation Commission\, Design Review Board\, and the Q2030 Riverfront Work Group.</span><br style="color: rgb(29\, 33\, 41)\; font-family: Helvetica\, Arial\, sans-serif\; font-size: 14px\; white-space: pre-wrap\;" />\n<br style="color: rgb(29\, 33\, 41)\; font-family: Helvetica\, Arial\, sans-serif\; font-size: 14px\; white-space: pre-wrap\;" />\n<span style="color: rgb(29\, 33\, 41)\; font-family: Helvetica\, Arial\, sans-serif\; font-size: 14px\; white-space: pre-wrap\;">All parties will see the proposal simultaneously with the public. This coalition of civic and private organizations has never met all at once\, which is itself a historic and exciting moment. </span><br style="color: rgb(29\, 33\, 41)\; font-family: Helvetica\, Arial\, sans-serif\; font-size: 14px\; white-space: pre-wrap\;" />\n<br style="color: rgb(29\, 33\, 41)\; font-family: Helvetica\, Arial\, sans-serif\; font-size: 14px\; white-space: pre-wrap\;" />\n<span style="color: rgb(29\, 33\, 41)\; font-family: Helvetica\, Arial\, sans-serif\; font-size: 14px\; white-space: pre-wrap\;">The goal of the project is to integrate an artistic vision in to the ongoing design and development of the RiverVision plan\, ensuring greater opportunities for the public to engage and enjoy the Mississippi riverfront and downtown. Further\, the proposal seeks to develop an overall story for the riverfront that will establish it as an iconic destination and bolster its connection with downtown Davenport and the entire</span><br style="color: rgb(29\, 33\, 41)\; font-family: Helvetica\, Arial\, sans-serif\; font-size: 14px\; white-space: pre-wrap\;" />\n<span style="color: rgb(29\, 33\, 41)\; font-family: Helvetica\, Arial\, sans-serif\; font-size: 14px\; white-space: pre-wrap\;">Quad Cities.</span><br style="color: rgb(29\, 33\, 41)\; font-family: Helvetica\, Arial\, sans-serif\; font-size: 14px\; white-space: pre-wrap\;" />\n<br style="color: rgb(29\, 33\, 41)\; font-family: Helvetica\, Arial\, sans-serif\; font-size: 14px\; white-space: pre-wrap\;" />\n<span style="color: rgb(29\, 33\, 41)\; font-family: Helvetica\, Arial\, sans-serif\; font-size: 14px\; white-space: pre-wrap\;">This update to RiverVision capstones a thorough process\, which includes much public participation and excitement. It has great potential to create new private and public investment for years to come. The hard work of building public support\, fundraising models\, and execution of the big idea remain\, but it all starts with a shared vision.</span><br style="color: rgb(29\, 33\, 41)\; font-family: Helvetica\, Arial\, sans-serif\; font-size: 14px\; white-space: pre-wrap\;" />\n<br style="color: rgb(29\, 33\, 41)\; font-family: Helvetica\, Arial\, sans-serif\; font-size: 14px\; white-space: pre-wrap\;" />\n<span style="color: rgb(29\, 33\, 41)\; font-family: Helvetica\, Arial\, sans-serif\; font-size: 14px\; white-space: pre-wrap\;">RDG Dahlquist Art Studio is the recipient of numerous national awards for public art and has completed well-known projects across Iowa and throughout the United States\, including the celebrated High Trestle Trail Bridge over the Des Moines River.</span>
LOCATION:Figge Art Museum
UID:e.2843.13790
SEQUENCE:3
DTSTAMP:20260422T195458Z
URL:https://member.quadcitieschamber.com/events/details/riverfront-report-public-presentation-13790
END:VEVENT

END:VCALENDAR
