BEGIN:VCALENDAR
VERSION:2.0
PRODID:-//ChamberMaster//Event Calendar 2.0//EN
METHOD:PUBLISH
X-PUBLISHED-TTL:P3D
REFRESH-INTERVAL:P3D
CALSCALE:GREGORIAN
BEGIN:VEVENT
DTSTART:20110403T000000Z
DTEND:20110403T040000Z
X-MICROSOFT-CDO-ALLDAYEVENT:FALSE
SUMMARY:Rock for the Walk
DESCRIPTION:Please join us for a night of great music\, great fun\, and great door prizes & raffles! \n\nAll proceeds will go to the Eastern Iowa branch of the Juvenile Diabetes Research Foundation (JDRF) helping The Sugar Shakers Walk Team reach their goal!\n\nNo Cover Charge!! Donations Appreciated.\n\nFeaturing Live Music Performance by Jason Carl & Friends!\n\nIf you can't make it to the festivities\, but would like to make a donation\, please go our JDRF Walk website: http://www2.jdrf.org/site/TR/Walk-IL/Chapter-EasternIowa4218?px=1004644&pg=personal&fr_id=1283\n\nThank you for your support!
X-ALT-DESC;FMTTYPE=text/html:Please join us for a night of great music\, great fun\, and great door prizes & raffles! \n\nAll proceeds will go to the Eastern Iowa branch of the Juvenile Diabetes Research Foundation (JDRF) helping The Sugar Shakers Walk Team reach their goal!\n\nNo Cover Charge!! Donations Appreciated.\n\nFeaturing Live Music Performance by Jason Carl & Friends!\n\nIf you can't make it to the festivities\, but would like to make a donation\, please go our JDRF Walk website: http://www2.jdrf.org/site/TR/Walk-IL/Chapter-EasternIowa4218?px=1004644&pg=personal&fr_id=1283\n\nThank you for your support!
LOCATION:Circle Tap1345 W. Locust Street Davenport\, IA 52804
UID:e.2843.114
SEQUENCE:3
DTSTAMP:20260423T023813Z
URL:https://member.quadcitieschamber.com/events/details/rock-for-the-walk-04-02-2011-114
END:VEVENT

END:VCALENDAR
