BEGIN:VCALENDAR
VERSION:2.0
PRODID:-//ChamberMaster//Event Calendar 2.0//EN
METHOD:PUBLISH
X-PUBLISHED-TTL:P3D
REFRESH-INTERVAL:P3D
CALSCALE:GREGORIAN
BEGIN:VEVENT
DTSTART:20190424T160000Z
DTEND:20190424T193000Z
X-MICROSOFT-CDO-ALLDAYEVENT:FALSE
SUMMARY:Rock Island Arsenal Spring Success Fair
DESCRIPTION:The Directorate of Human Resources\, U.S. Army Garrison\, will host the Spring Success Fair\, on Tuesday\, 24 April\, 2019 from 1100 a.m. - 2:30 p.m. in the Heritage Hall\, Building 60. The intent of this event is to facilitate a bridge to employment and education\, while leveraging community resource services for Veterans\, Transitioning Soldiers\, and the Quad Cities Community.
X-ALT-DESC;FMTTYPE=text/html:The Directorate of Human Resources\, U.S. Army Garrison\, will host the Spring Success Fair\, on Tuesday\, 24 April\, 2019 from 1100 a.m. - 2:30 p.m. in the Heritage Hall\, Building 60. The intent of this event is to facilitate a bridge to employment and education\, while leveraging community resource services for Veterans\, Transitioning Soldiers\, and the Quad Cities Community.
LOCATION:Rock Island Arsenal\, Building 60
UID:e.2843.14286
SEQUENCE:3
DTSTAMP:20260422T164016Z
URL:https://member.quadcitieschamber.com/events/details/rock-island-arsenal-spring-success-fair-14286
END:VEVENT

END:VCALENDAR
