BEGIN:VCALENDAR
VERSION:2.0
PRODID:-//ChamberMaster//Event Calendar 2.0//EN
METHOD:PUBLISH
X-PUBLISHED-TTL:P3D
REFRESH-INTERVAL:P3D
CALSCALE:GREGORIAN
BEGIN:VEVENT
DTSTART:20130702T203000Z
DTEND:20130702T210000Z
X-MICROSOFT-CDO-ALLDAYEVENT:FALSE
SUMMARY:Rock Island River Terminal Corporation Grand Opening & Ribbon Cutting
DESCRIPTION:Please help the Rock Island River Terminal Corporation celebrate the completion of their new state of the art fertilizer storage and handling facility on Tuesday\, July 2nd at 3:30pm – Located at 700 Mill Street in Rock Island (7th Avenue & Mill Street). The new warehouse has doubled the capacity of the since removed\, older and outdated storage buildings. The new state-of-the-art facility is capable of storing over 40\,000 tons of fertilizer product for customers.
X-ALT-DESC;FMTTYPE=text/html:<P style="MARGIN: 0in 0in 0pt" class=MsoNormal><FONT face=Calibri>Please help the Rock Island River Terminal Corporation celebrate the completion of their new state of the art fertilizer storage and handling facility on <B style="mso-bidi-font-weight: normal">Tuesday\, July 2<SUP>nd</SUP> at 3:30pm</B> – Located at 700 Mill Street in Rock Island (7<SUP>th</SUP> Avenue &amp\; Mill Street).<?xml:namespace prefix = o ns = "urn:schemas-microsoft-com:office:office" /><o:p></o:p></FONT></P><P style="MARGIN: 0in 0in 0pt" class=MsoNormal><o:p><FONT face=Calibri>&nbsp\;</FONT></o:p></P><P style="MARGIN: 0in 0in 0pt" class=MsoNormal><SPAN style="mso-ascii-font-family: Calibri\; mso-hansi-font-family: Calibri\; mso-ascii-theme-font: minor-latin\; mso-hansi-theme-font: minor-latin"><FONT face=Calibri>The new warehouse has doubled the capacity of the since removed\, older and outdated storage buildings. The new state-of-the-art facility is capable of storing over 40\,000 tons of fertilizer product for customers.<SPAN style="mso-spacerun: yes">&nbsp\; </SPAN></FONT></SPAN></P>
LOCATION:Rock Island River Terminal Corporation700 Mill Street Rock Island\, IL 61201
UID:e.2843.612
SEQUENCE:3
DTSTAMP:20260421T152832Z
URL:https://member.quadcitieschamber.com/events/details/rock-island-river-terminal-corporation-grand-opening-ribbon-cutting-07-02-2013-612
END:VEVENT

END:VCALENDAR
