BEGIN:VCALENDAR
VERSION:2.0
PRODID:-//ChamberMaster//Event Calendar 2.0//EN
METHOD:PUBLISH
X-PUBLISHED-TTL:P3D
REFRESH-INTERVAL:P3D
CALSCALE:GREGORIAN
BEGIN:VEVENT
DTSTART:20120718T210000Z
DTEND:20120718T213000Z
X-MICROSOFT-CDO-ALLDAYEVENT:FALSE
SUMMARY:Rock River Chiropractic & Acupuncture Ribbon Cutting
DESCRIPTION:Please help Rock River Chiropractic & Acupuncture celebrate their new business with a ribbon cutting on Wednesday\, July 18th at 4:00pm.  Located at 2201 52nd Avenue in Moline\, behind South Park Mall in Good Day Plaza. Rock River Chiropractic & Acupuncture provides gentle\, low-force technique\, acupuncture\, activator\, kinesiology taping and physicals.  Provides treatment for prenatal care\, family care\, headaches\, neck & back pain\, joint pain and many other conditions. For more information\, visit www.rockriverchiro.com
X-ALT-DESC;FMTTYPE=text/html:<DIV><P style="MARGIN: 0in 0in 0pt" class=MsoNormal><FONT face=Calibri>Please help Rock River Chiropractic &amp\; Acupuncture celebrate their new business with a ribbon cutting on Wednesday\, July 18<SUP>th</SUP> at 4:00pm.<SPAN style="mso-spacerun: yes">&nbsp\; </SPAN>Located at 2201 52<SUP>nd</SUP> Avenue in Moline\, behind South Park Mall in Good Day Plaza.</FONT></P><P style="MARGIN: 0in 0in 0pt" class=MsoNormal><?xml:namespace prefix = o ns = "urn:schemas-microsoft-com:office:office" /><o:p><FONT face=Calibri>&nbsp\;</FONT></o:p></P><P style="MARGIN: 0in 0in 0pt" class=MsoNormal><FONT face=Calibri>Rock River Chiropractic &amp\; Acupuncture provides gentle\, low-force technique\, acupuncture\, activator\, kinesiology taping and physicals.<SPAN style="mso-spacerun: yes">&nbsp\; </SPAN>Provides treatment for prenatal care\, family care\, headaches\, neck &amp\; back pain\, joint pain and many other conditions.</FONT></P><P style="MARGIN: 0in 0in 0pt" class=MsoNormal><o:p><FONT face=Calibri>&nbsp\;</FONT></o:p></P><P style="MARGIN: 0in 0in 0pt" class=MsoNormal><FONT face=Calibri>For more information\, visit </FONT><A href="http://www.rockriverchiro.com"><FONT face="Times New Roman">www.rockriverchiro.com</FONT></A><FONT face=Calibri> </FONT></P></DIV>
LOCATION:2201 52nd Avenue Moline\, IL 61265
UID:e.2843.402
SEQUENCE:3
DTSTAMP:20260421T220702Z
URL:https://member.quadcitieschamber.com/events/details/rock-river-chiropractic-acupuncture-ribbon-cutting-07-18-2012-402
END:VEVENT

END:VCALENDAR
