BEGIN:VCALENDAR
VERSION:2.0
PRODID:-//ChamberMaster//Event Calendar 2.0//EN
METHOD:PUBLISH
X-PUBLISHED-TTL:P3D
REFRESH-INTERVAL:P3D
CALSCALE:GREGORIAN
BEGIN:VEVENT
DTSTART:20140726T140000Z
DTEND:20140726T200000Z
X-MICROSOFT-CDO-ALLDAYEVENT:FALSE
SUMMARY:Rock the Island Car Show & Cruise In
DESCRIPTION:Join MWR’s Auto Skill Shop for our first ever “ROCK the ISLAND” Car Show/Cruise-In.  All makes and models of cars\, trucks\, motorcycles\, exotic vehicles\, etc are welcome.  Early bird registration through July 18th is $18 and $20 after that.  All proceeds fund programs that benefit Soldiers and Families.  This event is open to the general public and admission is free.  Make an entire day out of it by visiting some of the other family friendly activities & attractions while you are here on ArsenalIsland.  Attractions include:\n \n-Sports Car Club of America (SCCA) Rally\n -Arsenal Museum\n -Historic Quarters One Tours ($5/person)\n -Arsenal Attic Thrift Shop\n -Arsenal Island Golf Course & Clubhouse\n -Colonel Davenport House ($6/adult\, kids free)
X-ALT-DESC;FMTTYPE=text/html:Join MWR’s Auto Skill Shop for our first ever “ROCK the ISLAND” Car Show/Cruise-In.  All makes and models of cars\, trucks\, motorcycles\, exotic vehicles\, etc are welcome.  Early bird registration through July 18th is $18 and $20 after that.  All proceeds fund programs that benefit Soldiers and Families.  This event is open to the general public and admission is free.  Make an entire day out of it by visiting some of the other family friendly activities & attractions while you are here on ArsenalIsland.  Attractions include:\n \n-Sports Car Club of America (SCCA) Rally\n -Arsenal Museum\n -Historic Quarters One Tours ($5/person)\n -Arsenal Attic Thrift Shop\n -Arsenal Island Golf Course & Clubhouse\n -Colonel Davenport House ($6/adult\, kids free)\n
LOCATION:
UID:e.2843.25
SEQUENCE:3
DTSTAMP:20260422T125435Z
URL:https://member.quadcitieschamber.com/events/details/rock-the-island-car-show-cruise-in-07-26-2014-25
END:VEVENT

END:VCALENDAR
