BEGIN:VCALENDAR
VERSION:2.0
PRODID:-//ChamberMaster//Event Calendar 2.0//EN
METHOD:PUBLISH
X-PUBLISHED-TTL:P3D
REFRESH-INTERVAL:P3D
CALSCALE:GREGORIAN
BEGIN:VEVENT
DTSTART:20180622T230000Z
DTEND:20180623T030000Z
X-MICROSOFT-CDO-ALLDAYEVENT:FALSE
SUMMARY:Rock The Lot With 90's Daughter
DESCRIPTION:CASI\, Home Helpers of Scott County and LivWell Seniors present the first ever Rock The Lot parking lot party at CASI on Friday\, June 22 from 6 to 10pm. \n\n\n\nThe popular band 90's Daughter will be performing while you\, your family and friends can dine on wares from five local food trucks. \n\n\n\nAdmission is just $10 at the gate for adults (kids 12 & under are free). Anyone wishing to consume adult beverages will be required to show proper ID to receive a wristband. Non-alcoholic beverages will also be available for purchase. \n\n\n\nGuests are encouraged to bring blankets/lawn chairs to enjoy the music.\n\n\n\nThis event is rain or shine. Please note\, no refunds will be given as proceeds from the event support our Quad Cities older adults.\n\n\n\nParking is available on site at CASI (1035 W. Kimberly Rd.\, Davenport). \n\n\n\nTo learn more about 90's Daughter and their music: visit https://www.90sdaughter.com/\n\n\n\nFor questions\, email smeier@casiseniors.org
X-ALT-DESC;FMTTYPE=text/html:<span style="color:#4B4F56"><span style="font-family:century gothic\,sans-serif">CASI\, Home Helpers of Scott County and LivWell Seniors present the first ever Rock The Lot parking lot party at CASI on Friday\, June 22 from 6 to 10pm. </span></span><br />\n<br />\n<span style="color:#4B4F56"><span style="font-family:century gothic\,sans-serif">The popular band 90&#39\;s Daughter will be performing while you\, your family and friends can dine on wares from five local food trucks. </span></span><br />\n<br />\n<span style="color:#4B4F56"><span style="font-family:century gothic\,sans-serif">Admission is just $10 at the gate for adults (kids 12 &amp\; under are free). Anyone wishing to consume adult beverages will be required to show proper ID to receive a wristband. Non-alcoholic beverages will also be available for purchase. </span></span><br />\n<br />\n<span style="color:#4B4F56"><span style="font-family:century gothic\,sans-serif">Guests are encouraged to bring blankets/lawn chairs to enjoy the music.</span></span><br />\n<br />\n<span style="color:#4B4F56"><span style="font-family:century gothic\,sans-serif">This event is rain or shine. Please note\, no refunds will be given as proceeds from the event support our Quad Cities older adults.</span></span><br />\n<br />\n<span style="color:#4B4F56"><span style="font-family:century gothic\,sans-serif">Parking is available on site at CASI (1035 W. Kimberly Rd.\, Davenport). </span></span><br />\n<br />\n<span style="color:#4B4F56"><span style="font-family:century gothic\,sans-serif">To learn more about 90&#39\;s Daughter and their music: visit https://www.90sdaughter.com/</span></span><br />\n<br />\n<span style="color:#4B4F56"><span style="font-family:century gothic\,sans-serif">For questions\, email <a href="mailto:smeier@casiseniors.org">smeier@casiseniors.org</a></span></span>
LOCATION:CASI - 1035 West Kimberly Road\, Davenport\, IA 52806
UID:e.2843.13257
SEQUENCE:3
DTSTAMP:20260423T092305Z
URL:https://member.quadcitieschamber.com/events/details/rock-the-lot-with-90-s-daughter-13257
END:VEVENT

END:VCALENDAR
