BEGIN:VCALENDAR
VERSION:2.0
PRODID:-//ChamberMaster//Event Calendar 2.0//EN
METHOD:PUBLISH
X-PUBLISHED-TTL:P3D
REFRESH-INTERVAL:P3D
CALSCALE:GREGORIAN
BEGIN:VEVENT
DTSTART;VALUE=DATE:20210104
DTEND;VALUE=DATE:20210201
TRANSP:TRANSPARENT
X-MICROSOFT-CDO-ALLDAYEVENT:TRUE
SUMMARY:Round Up Partnership
DESCRIPTION:We are looking for "round up" partners within the Quad Cities community. A business that would be interested in helping our nonprofit Foundation raise funds for  Welcome Home Social for our seniors once CDC guidance allows. N exact date has been determined due to the pandemic but while we wait\, we are looking for Round up partners\, a business that would ask their customers to round up their change to the nearest dollar. The business that would partner with us would be the ones donating the funds to the Ridgecrest Foundation\, and given credit for the donation to a 501(c)3 organization. If that sounds like something your company would be interested in or have questions and would like further information please reach out to our Development Director\, Carrie Dreifurst at (563) 388-3431 or cdreifurst@ridgecrestvillage.org.
X-ALT-DESC;FMTTYPE=text/html:We are looking for &quot\;round up&quot\; partners within the Quad Cities community. A business that would be interested in helping our nonprofit Foundation raise funds for&nbsp\; Welcome Home Social for our seniors once CDC guidance allows. N exact date has been determined due to the pandemic but while we wait\, we are looking for Round up partners\, a business that would ask their customers to round up their change to the nearest dollar. The business that would partner with us would be the ones donating the funds to the Ridgecrest Foundation\, and given credit for the donation to a 501(c)3 organization. If that sounds like something your company would be interested in or have questions and would like further information please reach out to our Development Director\, Carrie Dreifurst at (563) 388-3431 or cdreifurst@ridgecrestvillage.org.
LOCATION:
UID:e.2843.18414
SEQUENCE:3
DTSTAMP:20260421T062423Z
URL:https://member.quadcitieschamber.com/events/details/round-up-partnership-18414
END:VEVENT

END:VCALENDAR
