BEGIN:VCALENDAR
VERSION:2.0
PRODID:-//ChamberMaster//Event Calendar 2.0//EN
METHOD:PUBLISH
X-PUBLISHED-TTL:P3D
REFRESH-INTERVAL:P3D
CALSCALE:GREGORIAN
BEGIN:VEVENT
DTSTART:20120202T223000Z
DTEND:20120202T230000Z
X-MICROSOFT-CDO-ALLDAYEVENT:FALSE
SUMMARY:Rudy's Tacos Grand Opening & Ribbon Cutting
DESCRIPTION:Longley Systems is celebrating an expansion with their new Longley Systems University (LSU).  It was designed to educate business owners about their Workforce Management options and solutions.  Each class will focus on the concepts\, phases\, cost\, ROI and functionality of software based Workforce Management solutions.  In the future\, LSU will provide advanced training sessions for existing clients. They are located in the Rock Island Argus bulding.
X-ALT-DESC;FMTTYPE=text/html:<DIV><FONT face=Calibri><P style="MARGIN: 0in 0in 0pt" class=MsoNormal>Longley Systems is celebrating an expansion with their new Longley Systems University (LSU).<SPAN style="mso-spacerun: yes">&nbsp\; </SPAN>It was designed to educate business owners about their Workforce Management options and solutions.<SPAN style="mso-spacerun: yes">&nbsp\; </SPAN>Each class will focus on the concepts\, phases\, cost\, ROI and functionality of software based Workforce Management solutions.<SPAN style="mso-spacerun: yes">&nbsp\; </SPAN>In the future\, LSU will provide advanced training sessions for existing clients.</P><P style="MARGIN: 0in 0in 0pt" class=MsoNormal><?xml:namespace prefix = o ns = "urn:schemas-microsoft-com:office:office" /><o:p>&nbsp\;</o:p></P><P style="MARGIN: 0in 0in 0pt" class=MsoNormal>They are located in the Rock Island Argus bulding.</P><P style="MARGIN: 0in 0in 0pt" class=MsoNormal>&nbsp\;</P></FONT></DIV>
LOCATION:Rudys Tacos3944 Elmore Ave. Davenport\, IA 52806
UID:e.2843.334
SEQUENCE:3
DTSTAMP:20260422T080924Z
URL:https://member.quadcitieschamber.com/events/details/rudy-s-tacos-grand-opening-ribbon-cutting-02-02-2012-334
END:VEVENT

END:VCALENDAR
