BEGIN:VCALENDAR
VERSION:2.0
PRODID:-//ChamberMaster//Event Calendar 2.0//EN
METHOD:PUBLISH
X-PUBLISHED-TTL:P3D
REFRESH-INTERVAL:P3D
CALSCALE:GREGORIAN
BEGIN:VEVENT
DTSTART:20181020T130000Z
DTEND:20181020T200000Z
X-MICROSOFT-CDO-ALLDAYEVENT:FALSE
SUMMARY:Rummage Sale at Iowa Masonic
DESCRIPTION:If you wish to have a table/booth\, the cost is $20. This money will go to the Alzheimer's Association. There will also be baked goods\, hot dogs\, and chips.\n\n\n\nPlease contact Geri or Misti at Iowa Masonic\, 563-359-9171\, to reserve your spot today! \n\n\n\nAll are welcome to come and see what is available during the sale\, even if you do not reserve a spot!
X-ALT-DESC;FMTTYPE=text/html:If you wish to have a table/booth\, the cost is $20. This money will go to the Alzheimer&#39\;s Association. There will also be baked goods\, hot dogs\, and chips.<br />\n<br />\nPlease contact Geri or Misti at Iowa Masonic\, 563-359-9171\, to reserve your spot today!&nbsp\;<br />\n<br />\nAll are welcome to come and see what is available during the sale\, even if you do not reserve a spot!
LOCATION:Iowa Masonic 2500 Grant Street\, Bettendorf\, Iowa 52722 Phone number is: 563-359-9171
UID:e.2843.13508
SEQUENCE:3
DTSTAMP:20260423T044152Z
URL:https://member.quadcitieschamber.com/events/details/rummage-sale-at-iowa-masonic-13508
END:VEVENT

END:VCALENDAR
