BEGIN:VCALENDAR
VERSION:2.0
PRODID:-//ChamberMaster//Event Calendar 2.0//EN
METHOD:PUBLISH
X-PUBLISHED-TTL:P3D
REFRESH-INTERVAL:P3D
CALSCALE:GREGORIAN
BEGIN:VEVENT
DTSTART:20120807T003000Z
DTEND:20120807T010000Z
X-MICROSOFT-CDO-ALLDAYEVENT:FALSE
SUMMARY:Saint John's Bible Exhibit Ribbon Cutting
DESCRIPTION:Please help the Davenport Public Library celebrate the opening of the Saint John’s Bible Exhibit on Monday\, August 6th at 7:30pm\, located at 321 Main Street in Davenport. There will be a one hour program beginning at 6:30pm that will take place on the second floor of the library.  The ribbon cutting will follow the program at 7:30pm on the first floor\, with a reception immediately following.
X-ALT-DESC;FMTTYPE=text/html:<DIV style="FONT-FAMILY: Arial"><P style="MARGIN: 0in 0in 0pt" class=MsoNormal><FONT face=Calibri>Please help the Davenport Public Library celebrate the opening of the Saint John’s Bible Exhibit on Monday\, August 6<SUP>th</SUP> at 7:30pm\, located at 321 Main Street in Davenport.<?xml:namespace prefix = o ns = "urn:schemas-microsoft-com:office:office" /><o:p></o:p></FONT></P><P style="MARGIN: 0in 0in 0pt" class=MsoNormal><o:p><FONT face=Calibri>&nbsp\;</FONT></o:p></P><P style="MARGIN: 0in 0in 0pt" class=MsoNormal><FONT face=Calibri>There will be a one hour program beginning at <B style="mso-bidi-font-weight: normal">6:30pm</B> that will take place on the second floor of the library.<SPAN style="mso-spacerun: yes">&nbsp\; </SPAN>The ribbon cutting will follow the program at 7:30pm on the first floor\, with a reception immediately following.<o:p></o:p></FONT></P></DIV>
LOCATION:Davenport Public Library321 Main St. Davenport\, IA 52801
UID:e.2843.413
SEQUENCE:3
DTSTAMP:20260421T202143Z
URL:https://member.quadcitieschamber.com/events/details/saint-john-s-bible-exhibit-ribbon-cutting-08-06-2012-413
END:VEVENT

END:VCALENDAR
