BEGIN:VCALENDAR
VERSION:2.0
PRODID:-//ChamberMaster//Event Calendar 2.0//EN
METHOD:PUBLISH
X-PUBLISHED-TTL:P3D
REFRESH-INTERVAL:P3D
CALSCALE:GREGORIAN
BEGIN:VEVENT
DTSTART:20140711T163000Z
DTEND:20140711T170000Z
X-MICROSOFT-CDO-ALLDAYEVENT:FALSE
SUMMARY:Salon Aria Grand Opening Ribbon Cutting
DESCRIPTION:Salon Aria\, 915 Middle Rd. Bettendorf\, IA 52722\, will celebrate the grand opening of their second location in the Quad Cities on Friday\, July 11th at 11:30am.   Salon Aria first opened its doors in September of 2004 in Davenport.  This family owned and operated business has experienced great success in the Quad Cities area and is excited about opening their brand new location in Bettendorf.  Salon Aria in Bettendorf will offer hair services\, manicure and pedicures\, and Aveda products.   Both the Bettendorf and Davenport locations are Aveda lifestyle salons.  Hours of Operation will be Monday - Friday from 9:00 a.m. to 8:00 p.m.\, Saturday 8:00 a.m. to 5:00 p.m. and Sunday by appointment only.  For more information\, please visit www.salonaria.com.
X-ALT-DESC;FMTTYPE=text/html:<FONT face=Calibri><P style="MARGIN: 0in 0in 0pt" class=MsoNormal>Salon Aria\, 915 Middle Rd. Bettendorf\, IA 52722\, will celebrate the grand opening of their second location in the Quad Cities on Friday\, July 11<SUP>th</SUP> at 11:30am.<SPAN style="mso-spacerun: yes">&nbsp\; </SPAN><?xml:namespace prefix = o ns = "urn:schemas-microsoft-com:office:office" /><o:p></o:p></P><P style="MARGIN: 0in 0in 0pt" class=MsoNormal><o:p>&nbsp\;</o:p></P><P style="MARGIN: 0in 0in 0pt" class=MsoNormal>Salon Aria first opened its doors in September of 2004 in Davenport.<SPAN style="mso-spacerun: yes">&nbsp\; </SPAN>This family owned and operated business has experienced great success in the Quad Cities area and is excited about opening their brand new location in Bettendorf.<SPAN style="mso-spacerun: yes">&nbsp\; </SPAN>Salon Aria in Bettendorf will offer hair services\, manicure and pedicures\, and Aveda products.<SPAN style="mso-spacerun: yes">&nbsp\;&nbsp\; </SPAN>Both the Bettendorf and Davenport locations are Aveda lifestyle salons. <o:p></o:p></P><P style="MARGIN: 0in 0in 0pt" class=MsoNormal><o:p>&nbsp\;</o:p></P><P style="MARGIN: 0in 0in 0pt" class=MsoNormal>Hours of Operation will be Monday&nbsp\;- Friday from 9:00 a.m. to 8:00 p.m.\, Saturday 8:00 a.m. to 5:00 p.m. and Sunday by appointment only.<SPAN style="mso-spacerun: yes">&nbsp\; </SPAN>For more information\, please visit <A href="http://www.salonaria.com"><FONT color=#0000ff face="Times New Roman">www.salonaria.com</FONT></A>.<o:p></o:p></P></FONT>
LOCATION:Salon Aria5260 Utica Ridge Rd. Davenport\, IA 52807
UID:e.2843.819
SEQUENCE:3
DTSTAMP:20260422T125354Z
URL:https://member.quadcitieschamber.com/events/details/salon-aria-grand-opening-ribbon-cutting-07-11-2014-819
END:VEVENT

END:VCALENDAR
