BEGIN:VCALENDAR
VERSION:2.0
PRODID:-//ChamberMaster//Event Calendar 2.0//EN
METHOD:PUBLISH
X-PUBLISHED-TTL:P3D
REFRESH-INTERVAL:P3D
CALSCALE:GREGORIAN
BEGIN:VEVENT
DTSTART:20140619T140000Z
DTEND:20140619T143000Z
X-MICROSOFT-CDO-ALLDAYEVENT:FALSE
SUMMARY:Sam's Club 25th Anniversary Ribbon Cutting
DESCRIPTION:Sam’s Club\, 3887 Elmore Ave. in Davenport\, will host a ribbon cutting ceremony on June 19th at 9:00am to celebrate the 25th year anniversary of their Quad Cities – Davenport location.   Sam’ Club provides quality\, name-brand merchandise at exceptional prices.  They currently operate in nearly 600 locations and is a destination for solutions that help ease a busy schedule and save money. Whether stocking a pantry or a business\, selecting new electronics or getting ready for a party\, members count on Sam’s Club as their source for the products and services they need to keep things running smoothly. For more information\, please visit www.samsclub.com.
X-ALT-DESC;FMTTYPE=text/html:<FONT face=Calibri><P style="MARGIN: 0in 0in 0pt" class=MsoNormal>Sam’s Club\, 3887 Elmore Ave. in Davenport\, will host a ribbon cutting ceremony on June 19<SUP>th</SUP> at 9:00am to celebrate the 25<SUP>th</SUP> year anniversary of their Quad Cities – Davenport location.<SPAN style="mso-spacerun: yes">&nbsp\; </SPAN><?xml:namespace prefix = o ns = "urn:schemas-microsoft-com:office:office" /><o:p></o:p></P><P style="MARGIN: 0in 0in 0pt" class=MsoNormal><o:p>&nbsp\;</o:p></P><P style="MARGIN: 0in 0in 0pt" class=MsoNormal>Sam’ Club provides quality\, name-brand merchandise at exceptional prices. <SPAN style="mso-spacerun: yes">&nbsp\;</SPAN>They currently operate in nearly 600 locations and is a destination for solutions that help ease a busy schedule and save money. Whether stocking a pantry or a business\, selecting new electronics or getting ready for a party\, members count on Sam’s Club as their source for the products and services they need to keep things running smoothly.<o:p></o:p></P><P style="MARGIN: 0in 0in 0pt" class=MsoNormal><o:p>&nbsp\;</o:p></P><P style="MARGIN: 0in 0in 0pt" class=MsoNormal>For more information\, please visit <A href="http://www.samsclub.com"><FONT color=#0000ff face="Times New Roman">www.samsclub.com</FONT></A>.<o:p></o:p></P><P style="TEXT-TRANSFORM: none\; BACKGROUND-COLOR: rgb(255\,255\,255)\; TEXT-INDENT: 0px\; MARGIN: 0in 0in 0pt\; LETTER-SPACING: normal\; FONT: small/20px Calibri\; WHITE-SPACE: normal\; COLOR: rgb(0\,0\,0)\; WORD-SPACING: 0px\; -webkit-text-stroke-width: 0px" class=MsoNormal><P style="TEXT-TRANSFORM: none\; BACKGROUND-COLOR: rgb(255\,255\,255)\; TEXT-INDENT: 0px\; MARGIN: 0in 0in 0pt\; LETTER-SPACING: normal\; FONT: small/20px Calibri\; WHITE-SPACE: normal\; COLOR: rgb(0\,0\,0)\; WORD-SPACING: 0px\; -webkit-text-stroke-width: 0px" class=MsoNormal>&nbsp\;</P></P></FONT>
LOCATION:Sam's Club3887 Elmore Avenue Davenport\, IA 52807
UID:e.2843.808
SEQUENCE:3
DTSTAMP:20260422T111340Z
URL:https://member.quadcitieschamber.com/events/details/sam-s-club-25th-anniversary-ribbon-cutting-06-19-2014-808
END:VEVENT

END:VCALENDAR
