BEGIN:VCALENDAR
VERSION:2.0
PRODID:-//ChamberMaster//Event Calendar 2.0//EN
METHOD:PUBLISH
X-PUBLISHED-TTL:P3D
REFRESH-INTERVAL:P3D
CALSCALE:GREGORIAN
BEGIN:VEVENT
DTSTART:20120726T143000Z
DTEND:20120726T150000Z
X-MICROSOFT-CDO-ALLDAYEVENT:FALSE
SUMMARY:Schebler Company Ground Breaking
DESCRIPTION:Please help the Schebler Company celebrate the ground breaking of their new building on Thursday\, July 26th at 9:30am.  Located at 5665 Fenno Rd. in Bettendorf – past Alcoa\, Water Tower with Schebler logo. Founded in 1895\, to support the metal fabrication needs of the Quad Cities\, Schebler has grown to provide industrial chimney systems\, specialty fabrication services\, residential and commercial heating/cooling solutions and food manufacturing equipment to companies throughout North America and select export countries.  For more information on Schebler\, please visit www.schebler.com
X-ALT-DESC;FMTTYPE=text/html:<DIV><P style="MARGIN: 0in 0in 0pt" class=MsoNormal><FONT face=Calibri>Please help the Schebler Company celebrate the ground breaking of their new building on Thursday\, July 26<SUP>th</SUP> at 9:30am.<SPAN style="mso-spacerun: yes">&nbsp\; </SPAN>Located at 5665 Fenno Rd. in Bettendorf – past Alcoa\, Water Tower with Schebler logo.</FONT></P><P style="MARGIN: 0in 0in 0pt" class=MsoNormal><?xml:namespace prefix = o ns = "urn:schemas-microsoft-com:office:office" /><o:p><FONT face=Calibri>&nbsp\;</FONT></o:p></P><P style="MARGIN: 0in 0in 0pt" class=MsoNormal><FONT face=Calibri>Founded in 1895\, to support the metal fabrication needs of the Quad Cities\, Schebler has grown to provide industrial chimney systems\, specialty fabrication services\, residential and commercial heating/cooling solutions and food manufacturing equipment to companies throughout North America and select export countries. </FONT></P><P style="MARGIN: 0in 0in 0pt" class=MsoNormal><o:p><FONT face=Calibri>&nbsp\;</FONT></o:p></P><P style="MARGIN: 0in 0in 0pt" class=MsoNormal><FONT face=Calibri>For more information on Schebler\, please visit </FONT><A href="http://www.schebler.com"><FONT face="Times New Roman">www.schebler.com</FONT></A></P></DIV>
LOCATION:5665 Fenno Road Bettendorf\, IA 52722
UID:e.2843.406
SEQUENCE:3
DTSTAMP:20260421T234839Z
URL:https://member.quadcitieschamber.com/events/details/schebler-company-ground-breaking-07-26-2012-406
END:VEVENT

END:VCALENDAR
