BEGIN:VCALENDAR
VERSION:2.0
PRODID:-//ChamberMaster//Event Calendar 2.0//EN
METHOD:PUBLISH
X-PUBLISHED-TTL:P3D
REFRESH-INTERVAL:P3D
CALSCALE:GREGORIAN
BEGIN:VEVENT
DTSTART:20130127T210000Z
DTEND:20130127T060000Z
X-MICROSOFT-CDO-ALLDAYEVENT:FALSE
SUMMARY:Schindlerâ€™s List
DESCRIPTION:In honor of Holocaust Remembrance Day weâ€™ll be showing Schindlerâ€™s List in our National Geographic Giant Screen Theater at 3 p.m. on January 27. Tickets to the movie are free with Museum admission. Museum admission is $7 adults\, $6 seniors/students/military\, and $5 youth. Museum members are free. Seating is limited so please call to purchase tickets in advance at 563.324.1933 ext. 242.
X-ALT-DESC;FMTTYPE=text/html:In honor of Holocaust Remembrance Day weâ€™ll be showing Schindlerâ€™s List in our National Geographic Giant Screen Theater at 3 p.m. on January 27. Tickets to the movie are free with Museum admission. Museum admission is $7 adults\, $6 seniors/students/military\, and $5 youth. Museum members are free. Seating is limited so please call to purchase tickets in advance at 563.324.1933 ext. 242.
LOCATION:Putnam Museum1717 West 12th Street Davenport\, IA 52804
UID:e.2843.86
SEQUENCE:3
DTSTAMP:20260421T134341Z
URL:https://member.quadcitieschamber.com/events/details/schindler&#226;-s-list-01-27-2013-86
END:VEVENT

END:VCALENDAR
