BEGIN:VCALENDAR
VERSION:2.0
PRODID:-//ChamberMaster//Event Calendar 2.0//EN
METHOD:PUBLISH
X-PUBLISHED-TTL:P3D
REFRESH-INTERVAL:P3D
CALSCALE:GREGORIAN
BEGIN:VEVENT
DTSTART:20130710T170000Z
DTEND:20130710T173000Z
X-MICROSOFT-CDO-ALLDAYEVENT:FALSE
SUMMARY:Schmall Chiropractic & Physical Rehab Ribbon Cutting
DESCRIPTION:Please help Schmall Chiropractic & Physical Rehab celebrate their new location and 20th Anniversary on Wednesday\, July 10th at Noon – Located at 3816 27th Street in Moline. Schmall Chiropractic is a modern day chiropractic and physical rehab facility concerned with the everyday health and well being of the Quad Cities area. To learn more\, please visit www.schmallchiropractic.com
X-ALT-DESC;FMTTYPE=text/html:<DIV style="FONT-FAMILY: Arial"><P style="MARGIN: 0in 0in 0pt" class=MsoNormal><FONT face=Calibri>Please help Schmall Chiropractic &amp\; Physical Rehab celebrate their new location and 20<SUP>th</SUP> Anniversary on <B style="mso-bidi-font-weight: normal">Wednesday\, July 10<SUP>th</SUP> at Noon</B> – Located at 3816 27<SUP>th</SUP> Street in Moline.<?xml:namespace prefix = o ns = "urn:schemas-microsoft-com:office:office" /><o:p></o:p></FONT></P><P style="MARGIN: 0in 0in 0pt" class=MsoNormal><o:p><FONT face=Calibri>&nbsp\;</FONT></o:p></P><P style="MARGIN: 0in 0in 0pt" class=MsoNormal><FONT face=Calibri>Schmall Chiropractic is a modern day chiropractic and physical rehab facility concerned with the everyday health and well being of the Quad Cities area.<o:p></o:p></FONT></P><P style="MARGIN: 0in 0in 0pt" class=MsoNormal><o:p><FONT face=Calibri>&nbsp\;</FONT></o:p></P><P style="MARGIN: 0in 0in 0pt" class=MsoNormal><FONT face=Calibri>To learn more\, please visit </FONT><A href="http://www.schmallchiropractic.com"><FONT face="Times New Roman">www.schmallchiropractic.com</FONT></A><o:p></o:p></P></DIV>
LOCATION:Schmall Chiropractic and Physical Rehab3816 27th St. Moline\, IL 61265
UID:e.2843.609
SEQUENCE:3
DTSTAMP:20260421T153455Z
URL:https://member.quadcitieschamber.com/events/details/schmall-chiropractic-physical-rehab-ribbon-cutting-07-10-2013-609
END:VEVENT

END:VCALENDAR
