BEGIN:VCALENDAR
VERSION:2.0
PRODID:-//ChamberMaster//Event Calendar 2.0//EN
METHOD:PUBLISH
X-PUBLISHED-TTL:P3D
REFRESH-INTERVAL:P3D
CALSCALE:GREGORIAN
BEGIN:VEVENT
DTSTART:20110519T220000Z
DTEND:20110520T020000Z
X-MICROSOFT-CDO-ALLDAYEVENT:FALSE
SUMMARY:Schmooza Palooza 2011
DESCRIPTION:Bring your friends\, colleagues and customers to Schmooza Palooza - the biggest after-hours event of the year!  Schmooze and enjoy hors d'oeuvres and beverages from members including Capriotti's Sandwich Shop\, Governor's\, Great River Brewery\, Happy Joe's\, HomeRidge Inn & Suites\, Irish Dog Bloody Mary Mix\, Mississippi River Distilling Company\, Qdoba Mexican Grill\, Rhythm City Casino\, The Hungry Hobo\, Vanguard Distributing\, Wolfe Beverage and Woodfire Grill.  Enjoy entertainment by Master DJ & Visual Effects and a chance to win $1\,000 or more! Thursday\, May 195:00 p.m.Modern Woodmen Park\, 209 S. Gaines St.\, DavenportCost: $20 for members\, $25 for non-members  Sponsored by R.I.A. Federal Credit Union\, Rhythm City Casino\, Ruhl&Ruhl REALTORS\, One Step Printing\, Inc. CBS4\, Modern Woodmen Park and Master DJ & Visual Effects\, Inc.
X-ALT-DESC;FMTTYPE=text/html:<DIV style="FONT-FAMILY: Arial"><P style="LINE-HEIGHT: 13.5pt\; MARGIN: 0in 0in 0pt"><SPAN style="FONT-FAMILY: 'Verdana'\,'sans-serif'\; COLOR: #333333\; FONT-SIZE: 10pt">Bring your friends\, colleagues and customers to Schmooza Palooza -&nbsp\;<?xml:namespace prefix = o ns = "urn:schemas-microsoft-com:office:office" /><o:p></o:p></SPAN></P><P style="LINE-HEIGHT: 13.5pt\; MARGIN: 0in 0in 0pt"><SPAN style="FONT-FAMILY: 'Verdana'\,'sans-serif'\; COLOR: #333333\; FONT-SIZE: 10pt">the biggest after-hours event of the year!&nbsp\;<o:p></o:p></SPAN></P><P style="LINE-HEIGHT: 13.5pt\; MARGIN: 0in 0in 0pt"><SPAN style="FONT-FAMILY: 'Verdana'\,'sans-serif'\; COLOR: #333333\; FONT-SIZE: 10pt">&nbsp\;<o:p></o:p></SPAN></P><P style="LINE-HEIGHT: 13.5pt\; MARGIN: 0in 0in 0pt"><SPAN style="FONT-FAMILY: 'Verdana'\,'sans-serif'\; COLOR: #333333\; FONT-SIZE: 10pt">Schmooze and enjoy hors d'oeuvres and beverages from members including Capriotti's Sandwich Shop\, Governor's\, Great River Brewery\, Happy Joe's\, HomeRidge Inn &amp\; Suites\, Irish Dog Bloody Mary Mix\, Mississippi River Distilling Company\, Qdoba Mexican Grill\, Rhythm City Casino\, The Hungry Hobo\, Vanguard Distributing\, Wolfe Beverage and Woodfire Grill.&nbsp\;<o:p></o:p></SPAN></P><P style="LINE-HEIGHT: 13.5pt\; MARGIN: 0in 0in 0pt"><SPAN style="FONT-FAMILY: 'Verdana'\,'sans-serif'\; COLOR: #333333\; FONT-SIZE: 10pt">&nbsp\;<o:p></o:p></SPAN></P><P style="LINE-HEIGHT: 13.5pt\; MARGIN: 0in 0in 0pt"><SPAN style="FONT-FAMILY: 'Verdana'\,'sans-serif'\; COLOR: #333333\; FONT-SIZE: 10pt">Enjoy entertainment by Master DJ &amp\; Visual Effects and a chance to win $1\,000 or more!<o:p></o:p></SPAN></P><P style="MARGIN: 0in 0in 0pt"><SPAN style="FONT-FAMILY: 'Verdana'\,'sans-serif'\; COLOR: #333333\; FONT-SIZE: 10pt">&nbsp\;<o:p></o:p></SPAN></P><P style="MARGIN: 0in 0in 0pt"><SPAN style="FONT-FAMILY: 'Verdana'\,'sans-serif'\; COLOR: #333333\; FONT-SIZE: 10pt">Thursday\, May 19<o:p></o:p></SPAN></P><P style="MARGIN: 0in 0in 0pt"><SPAN style="FONT-FAMILY: 'Verdana'\,'sans-serif'\; COLOR: #333333\; FONT-SIZE: 10pt">5:00 p.m.<o:p></o:p></SPAN></P><P style="MARGIN: 0in 0in 0pt"><SPAN style="FONT-FAMILY: 'Verdana'\,'sans-serif'\; COLOR: #333333\; FONT-SIZE: 10pt">Modern Woodmen Park\, 209 S. Gaines St.\, Davenport<o:p></o:p></SPAN></P><P style="MARGIN: 0in 0in 0pt"><SPAN style="FONT-FAMILY: 'Verdana'\,'sans-serif'\; COLOR: #333333\; FONT-SIZE: 10pt">Cost: $20 for members\, $25 for non-members<o:p></o:p></SPAN></P><P style="MARGIN: 0in 0in 0pt"><SPAN style="FONT-FAMILY: 'Verdana'\,'sans-serif'\; COLOR: #333333\; FONT-SIZE: 10pt">&nbsp\;<o:p></o:p></SPAN></P><P style="MARGIN: 0in 0in 0pt"><SPAN style="FONT-FAMILY: 'Verdana'\,'sans-serif'\; COLOR: #333333\; FONT-SIZE: 10pt"><o:p>&nbsp\;</o:p></SPAN></P><P style="MARGIN: 0in 0in 0pt"><SPAN style="FONT-FAMILY: 'Verdana'\,'sans-serif'\; COLOR: #333333\; FONT-SIZE: 10pt">Sponsored by R.I.A. Federal Credit Union\, Rhythm City Casino\, Ruhl&amp\;Ruhl REALTORS\, One Step Printing\, Inc. CBS4\, Modern Woodmen Park and Master DJ &amp\; Visual Effects\, Inc.<o:p></o:p></SPAN></P></DIV>
LOCATION:Quad Cities River Bandits209 S. Gaines Davenport\, IA 52802
UID:e.2843.138
SEQUENCE:3
DTSTAMP:20260423T005916Z
URL:https://member.quadcitieschamber.com/events/details/schmooza-palooza-2011-05-19-2011-138
END:VEVENT

END:VCALENDAR
