BEGIN:VCALENDAR
VERSION:2.0
PRODID:-//ChamberMaster//Event Calendar 2.0//EN
METHOD:PUBLISH
X-PUBLISHED-TTL:P3D
REFRESH-INTERVAL:P3D
CALSCALE:GREGORIAN
BEGIN:VEVENT
DTSTART:20121012T003000Z
DTEND:20121012T013000Z
X-MICROSOFT-CDO-ALLDAYEVENT:FALSE
SUMMARY:Scott County Board of Supervisors Forum
DESCRIPTION:This moderated forum will allow our members to hear from the candidates who are running for Scott County Board of Supervisors. Registration begins at 7:30 am.  Forum begins at 7:45 am.  There is no cost to attend this event.
X-ALT-DESC;FMTTYPE=text/html:<DIV><P style="MARGIN: 0in 0in 0pt" class=MsoNormal>This moderated forum will allow our members to hear from the candidates who are running for Scott County Board of Supervisors.</P><P style="MARGIN: 0in 0in 0pt" class=MsoNormal>&nbsp\;</P><P style="MARGIN: 0in 0in 0pt" class=MsoNormal>Registration begins at 7:30 am.&nbsp\; Forum begins at 7:45 am.&nbsp\; There is no cost to attend this event.</P><P style="MARGIN: 0in 0in 0pt" class=MsoNormal><FONT size=4></FONT>&nbsp\;</P></DIV>
LOCATION:HomeRidge Inn & Suites909 Middle Rd. Bettendorf\, IA 52722
UID:e.2843.452
SEQUENCE:3
DTSTAMP:20260421T183556Z
URL:https://member.quadcitieschamber.com/events/details/scott-county-board-of-supervisors-forum-10-11-2012-452
END:VEVENT

END:VCALENDAR
