BEGIN:VCALENDAR
VERSION:2.0
PRODID:-//ChamberMaster//Event Calendar 2.0//EN
METHOD:PUBLISH
X-PUBLISHED-TTL:P3D
REFRESH-INTERVAL:P3D
CALSCALE:GREGORIAN
BEGIN:VEVENT
DTSTART:20140213T150000Z
DTEND:20140213T193000Z
X-MICROSOFT-CDO-ALLDAYEVENT:FALSE
SUMMARY:Scott County Economic Development Summit
DESCRIPTION:Scott County Economic Development SummitThursday\, February 13\, 2014 9 AM-1:30 PM The Scott County Board of Supervisors is planning to hold a half (1/2) day Economic Development Summit at the Isle Conference Center in Bettendorf the morning of Thursday February 13\, 2014.  Debi Durham\, Iowa Economic Development Authority Director has been invited to be the keynote luncheon speaker.  Two concurrent sessions are planned to be held prior to the luncheon.  One will have presentations centered on best practices to encourage regional economic growth and cooperation\, and will feature examples from regional metropolitan areas like the QCA.  The other session will focus on the next generation of economic development in rural communities\, aiming to help leaders attract businesses and encourage entrepreneurs in the smaller communities of Scott County. For more information about this program\, contact Tim Huey\, Director of Scott County Planning and Development at planning@scottcountyiowa.com or 563-326-8643
X-ALT-DESC;FMTTYPE=text/html:<DIV><P style="MARGIN: 0in 0in 0pt" class=MsoBodyText align=center><FONT color=#0000ff size=4 face=Tahoma><STRONG>Scott County Economic Development Summit</STRONG></FONT></P><P style="MARGIN: 0in 0in 0pt" class=MsoBodyText align=center><FONT color=#0000ff size=4 face=Tahoma><STRONG>Thursday\, February 13\, 2014 9 AM-1:30 PM</STRONG></FONT></P><P style="MARGIN: 0in 0in 0pt" class=MsoBodyText align=center><?xml:namespace prefix = o ns = "urn:schemas-microsoft-com:office:office" /><o:p><FONT size=5 face=Tahoma><STRONG>&nbsp\;</STRONG></FONT></o:p></P><P style="TEXT-ALIGN: left\; MARGIN: 0in 0in 0pt" class=MsoBodyText align=left><SPAN style="FONT-SIZE: 12pt"><FONT face=Tahoma>The Scott County Board of Supervisors is planning to hold a half&nbsp\;(1/2) day Economic Development Summit at the Isle Conference Center in Bettendorf the morning of Thursday February 13\, 2014.<SPAN style="mso-spacerun: yes">&nbsp\; </SPAN>Debi Durham\, Iowa Economic Development Authority Director has been invited to be the keynote luncheon speaker.<SPAN style="mso-spacerun: yes">&nbsp\; </SPAN>Two concurrent sessions are planned to be held prior to the luncheon.<SPAN style="mso-spacerun: yes">&nbsp\; </SPAN>One will have presentations centered on best practices to encourage regional economic growth and cooperation\, and will feature examples from regional metropolitan areas like the QCA.<SPAN style="mso-spacerun: yes">&nbsp\; </SPAN>The other session will focus on the next generation of economic development in rural communities\, aiming to help leaders attract businesses and encourage entrepreneurs in the smaller communities of Scott County.<SPAN style="mso-spacerun: yes">&nbsp\;For more information about this program\, c</SPAN>ontact Tim Huey\, Director of Scott County Planning and Development&nbsp\;at </FONT></SPAN><A href="mailto:planning@scottcountyiowa.com"><SPAN style="FONT-SIZE: 12pt"><FONT face=Tahoma>planning@scottcountyiowa.com</FONT></SPAN></A><FONT face=Tahoma><SPAN style="FONT-SIZE: 12pt"> or 563-326-8643</SPAN><SPAN style="mso-bidi-font-size: 12.0pt"><o:p></o:p></SPAN></FONT></P></DIV>
LOCATION:Isle Center1800 Isle Parkway Bettendorf\, IA
UID:e.2843.764
SEQUENCE:3
DTSTAMP:20260422T031100Z
URL:https://member.quadcitieschamber.com/events/details/scott-county-economic-development-summit-02-13-2014-764
END:VEVENT

END:VCALENDAR
