BEGIN:VCALENDAR
VERSION:2.0
PRODID:-//ChamberMaster//Event Calendar 2.0//EN
METHOD:PUBLISH
X-PUBLISHED-TTL:P3D
REFRESH-INTERVAL:P3D
CALSCALE:GREGORIAN
BEGIN:VEVENT
DTSTART:20131114T220000Z
DTEND:20131114T223000Z
X-MICROSOFT-CDO-ALLDAYEVENT:FALSE
SUMMARY:Scott County Family YMCA Grand Opening
DESCRIPTION:Please join the Scott County Family YMCA in celebrating the grand opening of their new location on Thursday\, November 14th at 4:00pm – Located at 4885 Utica Ridge Rd. Davenport\, IA 52807 (North of Crow Creek Rd.).  http://mapq.st/19Sn9vi.   Senior Vice President of Membership\, Rene Hipple will be speaking on behalf of the Quad Cities Chamber of Commerce.  The Scott County Family YMCA believes that the strongest\, healthiest and happiest community is one where every child\, adult and family is not only included\, but also encouraged and inspired to reach their unique God-given potential.   For Youth Development\, the Scott County Family YMCA collaborates with the community to reach out to young people to provide them with mentors and programs that will teach and train them to become the next generation of leaders. For Social Responsibility they unite hundreds of volunteers and donors whose time\, talent\, and treasure are the heart and soul of the community.  Through their annual support campaign and charitable partners\, the Scott County YMCA’s goal is to provide $2 million worth of community service in the next year.  For more information please visit www.scottcountyy.org.
X-ALT-DESC;FMTTYPE=text/html:<P style="MARGIN: 0in 0in 0pt" class=MsoNormal><FONT face=Calibri>Please join the Scott County Family YMCA in celebrating the grand opening of their new location on Thursday\, November 14<SUP>th</SUP> at 4:00pm – Located at 4885 Utica Ridge Rd. Davenport\, IA 52807 (North of Crow Creek Rd.).<SPAN style="mso-spacerun: yes">&nbsp\; </SPAN></FONT><A href="http://mapq.st/19Sn9vi">http://mapq.st/19Sn9vi</A><FONT face=Calibri>.<SPAN style="mso-spacerun: yes">&nbsp\; </SPAN><?xml:namespace prefix = o ns = "urn:schemas-microsoft-com:office:office" /><o:p></o:p></FONT></P><P style="MARGIN: 0in 0in 0pt" class=MsoNormal><o:p><FONT face=Calibri>&nbsp\;</FONT></o:p></P><P style="MARGIN: 0in 0in 0pt" class=MsoNormal><FONT face=Calibri>Senior Vice President of Membership\, Rene Hipple will be speaking on behalf of the Quad Cities Chamber of Commerce. <o:p></o:p></FONT></P><P style="MARGIN: 0in 0in 0pt" class=MsoNormal><o:p><FONT face=Calibri>&nbsp\;</FONT></o:p></P><P style="MARGIN: 0in 0in 0pt" class=MsoNormal><FONT face=Calibri>The Scott County Family YMCA believes that the strongest\, healthiest and happiest community is one where every child\, adult and family is not only included\, but also encouraged and inspired to reach their unique God-given potential.<SPAN style="mso-spacerun: yes">&nbsp\; </SPAN><o:p></o:p></FONT></P><P style="MARGIN: 0in 0in 0pt" class=MsoNormal><o:p><FONT face=Calibri>&nbsp\;</FONT></o:p></P><P style="MARGIN: 0in 0in 0pt" class=MsoNormal><FONT face=Calibri>For Youth Development\, the Scott County Family YMCA collaborates with the community to reach out to young people to provide them with mentors and programs that will teach and train them to become the next generation of leaders.<o:p></o:p></FONT></P><P style="MARGIN: 0in 0in 0pt" class=MsoNormal><o:p><FONT face=Calibri>&nbsp\;</FONT></o:p></P><P style="MARGIN: 0in 0in 0pt" class=MsoNormal><FONT face=Calibri>For Social Responsibility they unite hundreds of volunteers and donors whose time\, talent\, and treasure are the heart and soul of the community.<SPAN style="mso-spacerun: yes">&nbsp\; </SPAN>Through their annual support campaign and charitable partners\, the Scott County YMCA’s goal is to provide $2 million worth of community service in the next year. <o:p></o:p></FONT></P><P style="MARGIN: 0in 0in 0pt" class=MsoNormal><o:p><FONT face=Calibri>&nbsp\;</FONT></o:p></P><P style="MARGIN: 0in 0in 0pt" class=MsoNormal><FONT face=Calibri>For more information please visit </FONT><A href="http://www.scottcountyy.org">www.scottcountyy.org</A><FONT face=Calibri>.<o:p></o:p></FONT></P><P>&nbsp\;</P>
LOCATION:Scott County Family Y606 W. 2nd St. Davenport\, IA 52801
UID:e.2843.737
SEQUENCE:3
DTSTAMP:20260421T220825Z
URL:https://member.quadcitieschamber.com/events/details/scott-county-family-ymca-grand-opening-11-14-2013-737
END:VEVENT

END:VCALENDAR
