BEGIN:VCALENDAR
VERSION:2.0
PRODID:-//ChamberMaster//Event Calendar 2.0//EN
METHOD:PUBLISH
X-PUBLISHED-TTL:P3D
REFRESH-INTERVAL:P3D
CALSCALE:GREGORIAN
BEGIN:VEVENT
DTSTART:20111018T163000Z
DTEND:20111018T183000Z
X-MICROSOFT-CDO-ALLDAYEVENT:FALSE
SUMMARY:Sea of Goodwill
DESCRIPTION:The Rock Island Arsenal Chapter of the AUSA & the Quad Cities Chamber of Commerce present Sea of Goodwill Supporting those who Serve & their Families Sea of Goodwill connects community resources with the soldiers\, veterans and their families who need support.  Find out how you can be part of the Sea of Goodwill and support those who are protecting our freedoms. FeaturingColonel David SutherlandSpecial Assistant to the Joint Chiefs of Staff Tuesday\, October 18RiverCenter\, Davenport\, IA11:30 am - 1:30 pm$12Lunch Provided
X-ALT-DESC;FMTTYPE=text/html:<DIV><SPAN style="FONT-FAMILY: 'Garamond'\,'serif'\; COLOR: windowtext\; mso-bidi-font-family: 'Times New Roman'\; mso-bidi-theme-font: minor-bidi"></SPAN><P style="MARGIN: 0in 0in 0pt" class=Default></P><SPAN style="LINE-HEIGHT: 115%\; FONT-FAMILY: 'Garamond'\,'serif'\; COLOR: #221e1f\; FONT-SIZE: 21.5pt\; mso-bidi-font-family: Garamond\; mso-fareast-font-family: 'Times New Roman'\; mso-fareast-theme-font: minor-fareast\; mso-ansi-language: EN-US\; mso-fareast-language: EN-US\; mso-bidi-language: AR-SA"><P style="TEXT-ALIGN: center\; MARGIN: 0in 0in 0pt" class=default align=center><SPAN style="FONT-FAMILY: 'Garamond Premr Pro'\,'serif'\; mso-bidi-font-family: 'Times New Roman'\; mso-bidi-theme-font: minor-bidi"><FONT size=3><FONT color=#000000>The Rock Island Arsenal Chapter of the AUSA &amp\; <?xml:namespace prefix = o ns = "urn:schemas-microsoft-com:office:office" /><o:p></o:p></FONT></FONT></SPAN></P><P style="TEXT-ALIGN: center\; MARGIN: 0in 0in 0pt" class=default align=center><SPAN style="FONT-FAMILY: 'Garamond Premr Pro'\,'serif'\; mso-bidi-font-family: 'Times New Roman'\; mso-bidi-theme-font: minor-bidi"><FONT size=3><FONT color=#000000>the Quad Cities Chamber of Commerce present<o:p></o:p></FONT></FONT></SPAN></P><P style="TEXT-ALIGN: center\; MARGIN: 0in 0in 0pt" class=default align=center><SPAN style="FONT-FAMILY: 'Garamond Premr Pro'\,'serif'\; FONT-SIZE: 14pt\; mso-bidi-font-family: 'Times New Roman'\; mso-bidi-theme-font: minor-bidi"><o:p><FONT color=#000000>&nbsp\;</FONT></o:p></SPAN></P><P style="TEXT-ALIGN: center\; MARGIN: 0in 0in 0pt" class=default align=center><SPAN style="FONT-FAMILY: 'Garamond'\,'serif'\; COLOR: #31849b\; FONT-SIZE: 24pt\; mso-bidi-font-family: 'Times New Roman'\; mso-bidi-theme-font: minor-bidi\; mso-themecolor: accent5\; mso-themeshade: 191">Sea of Goodwill<o:p></o:p></SPAN></P><P style="TEXT-ALIGN: center\; MARGIN: 0in 0in 0pt" class=default align=center><SPAN style="FONT-FAMILY: 'Garamond'\,'serif'\; COLOR: #31849b\; FONT-SIZE: 14pt\; mso-bidi-font-family: 'Times New Roman'\; mso-bidi-theme-font: minor-bidi\; mso-themecolor: accent5\; mso-themeshade: 191"><o:p>&nbsp\;</o:p></SPAN></P><P style="TEXT-ALIGN: center\; MARGIN: 0in 0in 0pt" class=default align=center><B style="mso-bidi-font-weight: normal"><SPAN style="FONT-FAMILY: 'Garamond Premr Pro'\,'serif'\; mso-bidi-font-family: 'Times New Roman'\; mso-bidi-theme-font: minor-bidi"><FONT size=3><FONT color=#000000>Supporting those who Serve &amp\; their Families<o:p></o:p></FONT></FONT></SPAN></B></P><P style="TEXT-ALIGN: center\; MARGIN: 0in 0in 0pt" class=default align=center><SPAN style="FONT-FAMILY: 'Garamond'\,'serif'"><o:p><FONT color=#000000 size=3>&nbsp\;</FONT></o:p></SPAN></P><P style="TEXT-ALIGN: center\; MARGIN: 0in 0in 0pt" class=default align=center><SPAN style="FONT-FAMILY: 'Garamond'\,'serif'\; mso-bidi-font-family: 'Times New Roman'\; mso-bidi-theme-font: minor-bidi"><FONT size=3><FONT color=#000000>Sea of Goodwill connects community resources with the <o:p></o:p></FONT></FONT></SPAN></P><P style="TEXT-ALIGN: center\; MARGIN: 0in 0in 0pt" class=default align=center><SPAN style="FONT-FAMILY: 'Garamond'\,'serif'\; mso-bidi-font-family: 'Times New Roman'\; mso-bidi-theme-font: minor-bidi"><FONT size=3><FONT color=#000000>soldiers\, veterans and their families who need support.&nbsp\; <o:p></o:p></FONT></FONT></SPAN></P><P style="TEXT-ALIGN: center\; MARGIN: 0in 0in 0pt" class=default align=center><SPAN style="FONT-FAMILY: 'Garamond'\,'serif'\; mso-bidi-font-family: 'Times New Roman'\; mso-bidi-theme-font: minor-bidi"><FONT size=3><FONT color=#000000>Find out how you can be part of the Sea of Goodwill <o:p></o:p></FONT></FONT></SPAN></P><P style="TEXT-ALIGN: center\; MARGIN: 0in 0in 0pt" class=default align=center><SPAN style="FONT-FAMILY: 'Garamond'\,'serif'\; mso-bidi-font-family: 'Times New Roman'\; mso-bidi-theme-font: minor-bidi"><FONT size=3><FONT color=#000000>and support those who are protecting our freedoms.<o:p></o:p></FONT></FONT></SPAN></P><P style="TEXT-ALIGN: center\; MARGIN: 0in 0in 0pt" class=default align=center><SPAN style="FONT-FAMILY: 'Garamond'\,'serif'"><FONT size=3><FONT color=#000000>&nbsp\;<o:p></o:p></FONT></FONT></SPAN></P><P style="TEXT-ALIGN: center\; MARGIN: 0in 0in 0pt" class=default align=center><FONT size=3><FONT color=#000000><SPAN style="FONT-FAMILY: 'Garamond'\,'serif'\; mso-bidi-font-family: 'Times New Roman'\; mso-bidi-theme-font: minor-bidi">Featuring</SPAN><SPAN style="FONT-FAMILY: 'Garamond'\,'serif'"><o:p></o:p></SPAN></FONT></FONT></P><P style="TEXT-ALIGN: center\; MARGIN: 0in 0in 0pt" class=default align=center><FONT size=3><FONT color=#000000><STRONG><SPAN style="FONT-FAMILY: 'Garamond Premr Pro'\,'serif'\; mso-bidi-font-family: 'Times New Roman'\; mso-bidi-theme-font: minor-bidi">Colonel David Sutherland</SPAN></STRONG><SPAN style="FONT-FAMILY: 'Garamond Premr Pro'\,'serif'"><o:p></o:p></SPAN></FONT></FONT></P><P style="TEXT-ALIGN: center\; MARGIN: 0in 0in 0pt" class=default align=center><FONT size=3><FONT color=#000000><SPAN style="FONT-FAMILY: 'Garamond Premr Pro'\,'serif'\; mso-bidi-font-family: 'Times New Roman'\; mso-bidi-theme-font: minor-bidi">Special Assistant to the Joint Chiefs of Staff</SPAN><SPAN style="FONT-FAMILY: 'Garamond Premr Pro'\,'serif'"><o:p></o:p></SPAN></FONT></FONT></P><P style="TEXT-ALIGN: center\; MARGIN: 0in 0in 0pt" class=default align=center><SPAN style="FONT-FAMILY: 'Garamond'\,'serif'"><FONT size=3><FONT color=#000000>&nbsp\;<o:p></o:p></FONT></FONT></SPAN></P><P style="TEXT-ALIGN: center\; MARGIN: 0in 0in 0pt" class=default align=center><FONT size=3><FONT color=#000000><SPAN style="FONT-FAMILY: 'Garamond'\,'serif'\; mso-bidi-font-family: 'Times New Roman'\; mso-bidi-theme-font: minor-bidi">Tuesday\, October 18</SPAN><SPAN style="FONT-FAMILY: 'Garamond'\,'serif'"><o:p></o:p></SPAN></FONT></FONT></P><P style="TEXT-ALIGN: center\; MARGIN: 0in 0in 0pt" class=default align=center><FONT size=3><FONT color=#000000><SPAN style="FONT-FAMILY: 'Garamond'\,'serif'\; mso-bidi-font-family: 'Times New Roman'\; mso-bidi-theme-font: minor-bidi">RiverCenter\, Davenport\, IA</SPAN><SPAN style="FONT-FAMILY: 'Garamond'\,'serif'"><o:p></o:p></SPAN></FONT></FONT></P><P style="TEXT-ALIGN: center\; MARGIN: 0in 0in 0pt" class=default align=center><FONT size=3><FONT color=#000000><SPAN style="FONT-FAMILY: 'Garamond'\,'serif'\; mso-bidi-font-family: 'Times New Roman'\; mso-bidi-theme-font: minor-bidi">11:30 am - 1:30 pm</SPAN><SPAN style="FONT-FAMILY: 'Garamond'\,'serif'"><o:p></o:p></SPAN></FONT></FONT></P><P style="TEXT-ALIGN: center\; MARGIN: 0in 0in 0pt" class=default align=center><FONT size=3><FONT color=#000000><SPAN style="FONT-FAMILY: 'Garamond'\,'serif'\; mso-bidi-font-family: 'Times New Roman'\; mso-bidi-theme-font: minor-bidi">$12</SPAN><SPAN style="FONT-FAMILY: 'Garamond'\,'serif'"><o:p></o:p></SPAN></FONT></FONT></P><P style="TEXT-ALIGN: center\; MARGIN: 0in 0in 0pt" class=default align=center><SPAN style="FONT-FAMILY: 'Garamond'\,'serif'\; mso-bidi-font-family: 'Times New Roman'\; mso-bidi-theme-font: minor-bidi"><FONT color=#000000 size=3>Lunch Provided </FONT></SPAN><SPAN style="FONT-FAMILY: 'Garamond'\,'serif'"><o:p></o:p></SPAN></P></SPAN></DIV>
LOCATION:RiverCenter/Adler Theatre136 E 3rd Street Davenport\, IA 52801
UID:e.2843.241
SEQUENCE:3
DTSTAMP:20260422T140803Z
URL:https://member.quadcitieschamber.com/events/details/sea-of-goodwill-10-18-2011-241
END:VEVENT

END:VCALENDAR
