BEGIN:VCALENDAR
VERSION:2.0
PRODID:-//ChamberMaster//Event Calendar 2.0//EN
METHOD:PUBLISH
X-PUBLISHED-TTL:P3D
REFRESH-INTERVAL:P3D
CALSCALE:GREGORIAN
BEGIN:VEVENT
DTSTART:20140228T223000Z
DTEND:20140228T230000Z
X-MICROSOFT-CDO-ALLDAYEVENT:FALSE
SUMMARY:Sears Hometown Store Grand Opening Ribbon Cutting
DESCRIPTION:Sears Hometown Store\, located at 4241 Avenue of The Cities Moline\, IL 61265\, will celebrate the grand opening of their new location on Friday\, February 28th at 4:30pm.  http://mapq.st/5-7a75tptm   Sears Hometown Store provides a variety of products and services ranging from in home appliances\, lawn and garden\, fitness\, tools and household goods.  They can also order products from their affiliate stores\, with some items qualifying for free shipping.  To help celebrate their new location\, Sears Hometown Store will be hosting a two-day sale with an additional 10% off almost everything in the store\, February 28th – March 1st.  Store hours are Monday-Saturday from 9:00am-7:00pm\, and Sunday from 11:00am-4:00pm. For more information\, please visit www.shos.com.  Membership Manager\, Mike Coughlin will be speaking on behalf of the Quad Cities Chamber of Commerce.
X-ALT-DESC;FMTTYPE=text/html:<FONT face=Calibri><SPAN style="FONT-FAMILY: 'Calibri'\,'sans-serif'\; FONT-SIZE: 11pt\; mso-fareast-font-family: 'Times New Roman'\; mso-bidi-font-family: 'Times New Roman'\; mso-ansi-language: EN-US\; mso-fareast-language: EN-US\; mso-bidi-language: AR-SA"><P style="MARGIN: 0in 0in 0pt" class=MsoNormal>Sears Hometown Store\, located at 4241 Avenue of The Cities Moline\, IL 61265\,&nbsp\;will celebrate the&nbsp\;grand opening of their new&nbsp\;location on Friday\, February 28<SUP>th</SUP> at 4:30pm.<SPAN style="mso-spacerun: yes">&nbsp\; </SPAN><A href="http://mapq.st/5-7a75tptm"><FONT color=#0000ff face="Times New Roman">http://mapq.st/5-7a75tptm</FONT></A><SPAN style="mso-spacerun: yes">&nbsp\; </SPAN><?xml:namespace prefix = o ns = "urn:schemas-microsoft-com:office:office" /><o:p></o:p></P><P style="MARGIN: 0in 0in 0pt" class=MsoNormal><o:p>&nbsp\;</o:p></P><P style="MARGIN: 0in 0in 0pt" class=MsoNormal>Sears Hometown Store provides a&nbsp\;variety of products and services ranging from in home appliances\, lawn and garden\, fitness\, tools and household goods.<SPAN style="mso-spacerun: yes">&nbsp\; </SPAN>They can also order products from their affiliate stores\, with some items qualifying for free shipping.<SPAN style="mso-spacerun: yes">&nbsp\; To help celebrate their new location\, </SPAN>Sears Hometown Store will be hosting a two-day sale with an additional 10% off almost everything in the store\, February 28<SUP>th</SUP> – March 1<SUP>st</SUP>.<SPAN style="mso-spacerun: yes">&nbsp\; </SPAN>Store hours&nbsp\;are Monday-Saturday from 9:00am-7:00pm\, and Sunday from 11:00am-4:00pm.<o:p></o:p></P><P style="MARGIN: 0in 0in 0pt" class=MsoNormal><o:p>&nbsp\;</o:p></P><P style="MARGIN: 0in 0in 0pt" class=MsoNormal>For more information\, please visit <A href="http://www.shos.com"><FONT color=#0000ff face="Times New Roman">www.shos.com</FONT></A>. </P><P style="MARGIN: 0in 0in 0pt" class=MsoNormal>&nbsp\;</P><P style="MARGIN: 0in 0in 0pt" class=MsoNormal>Membership Manager\, Mike Coughlin will be speaking on behalf of the Quad Cities Chamber of Commerce. </P><P style="MARGIN: 0in 0in 0pt" class=MsoNormal></SPAN></FONT>&nbsp\;</P>
LOCATION:Sears Hometown Store4241 Avenue of the Cities Moline\, IL 61265
UID:e.2843.778
SEQUENCE:3
DTSTAMP:20260422T032039Z
URL:https://member.quadcitieschamber.com/events/details/sears-hometown-store-grand-opening-ribbon-cutting-02-28-2014-778
END:VEVENT

END:VCALENDAR
