BEGIN:VCALENDAR
VERSION:2.0
PRODID:-//ChamberMaster//Event Calendar 2.0//EN
METHOD:PUBLISH
X-PUBLISHED-TTL:P3D
REFRESH-INTERVAL:P3D
CALSCALE:GREGORIAN
BEGIN:VEVENT
DTSTART:20180303T160000Z
DTEND:20180303T210000Z
X-MICROSOFT-CDO-ALLDAYEVENT:FALSE
SUMMARY:Second Chance Sale
DESCRIPTION:Come shop for a cause AND score great deals on top-quality\, gently-used brand name clothes and accessories. Women's suits\, separates\, coats\, jackets\, dresses\, blouses\, shoes\, handbags and more are only $5. Accessories like wallets\, scarves and jewelry are $2.50. 100% of funds raised will go to Dress for Success Quad Cities to empower women to reach financial independence.
X-ALT-DESC;FMTTYPE=text/html:Come shop for a cause AND score great deals on top-quality\, gently-used brand name clothes and accessories. Women&rsquo\;s suits\, separates\, coats\, jackets\, dresses\, blouses\, shoes\, handbags and more are only $5. Accessories like wallets\, scarves and jewelry are $2.50. 100% of funds raised will go to Dress for Success Quad Cities to empower women to reach financial independence.
LOCATION:Dress for Success Quad Cities\, 311 E. 2nd St. Davenport\, IA
UID:e.2843.10066
SEQUENCE:3
DTSTAMP:20260423T141301Z
URL:https://member.quadcitieschamber.com/events/details/second-chance-sale-10066
END:VEVENT

END:VCALENDAR
