BEGIN:VCALENDAR
VERSION:2.0
PRODID:-//ChamberMaster//Event Calendar 2.0//EN
METHOD:PUBLISH
X-PUBLISHED-TTL:P3D
REFRESH-INTERVAL:P3D
CALSCALE:GREGORIAN
BEGIN:VEVENT
DTSTART:20130515T210000Z
DTEND:20130515T213000Z
X-MICROSOFT-CDO-ALLDAYEVENT:FALSE
SUMMARY:Seiffert Lumber Company Ribbon Cutting
DESCRIPTION:Please help Sieffert Lumber Company celebrate their newly remodeled showroom on Wednesday\, May 15th at 4:00pm – Located at 4112 W. Kimberly Road\, Davenport near Hickory Grove Road. Seiffert Lumber Company now sells directly to the public\, and is the Quad Cities areas only fully enclosed drive-through lumberyard and only Quad Cities certified Green Dealer. Please visit www.seiffertlumber.com for more information.
X-ALT-DESC;FMTTYPE=text/html:<P style="MARGIN: 0in 0in 0pt" class=MsoNormal><FONT face=Calibri>Please help Sieffert Lumber Company celebrate their newly remodeled showroom on <B style="mso-bidi-font-weight: normal">Wednesday\, May 15<SUP>th</SUP> at 4:00pm</B> – Located at 4112 W. Kimberly Road\, Davenport near Hickory Grove Road.<?xml:namespace prefix = o ns = "urn:schemas-microsoft-com:office:office" /><o:p></o:p></FONT></P><P style="MARGIN: 0in 0in 0pt" class=MsoNormal><o:p><FONT face=Calibri>&nbsp\;</FONT></o:p></P><P style="MARGIN: 0in 0in 0pt" class=MsoNormal><FONT face=Calibri>Seiffert Lumber Company now sells directly to the public\, and is the Quad Cities areas only fully enclosed drive-through lumberyard and only Quad Cities certified Green Dealer.<o:p></o:p></FONT></P><P style="MARGIN: 0in 0in 0pt" class=MsoNormal><o:p><FONT face=Calibri>&nbsp\;</FONT></o:p></P><P style="MARGIN: 0in 0in 0pt" class=MsoNormal><FONT face=Calibri>Please visit </FONT><A href="http://www.seiffertlumber.com"><FONT face=Calibri>www.seiffertlumber.com</FONT></A><FONT face=Calibri> for more information.<o:p></o:p></FONT></P><DIV style="FONT-FAMILY: Arial">&nbsp\;</DIV>
LOCATION:H O Seiffert Lumber Company4112 W. Kimberly Rd. Davenport\, IA 52806
UID:e.2843.577
SEQUENCE:3
DTSTAMP:20260421T134948Z
URL:https://member.quadcitieschamber.com/events/details/seiffert-lumber-company-ribbon-cutting-05-15-2013-577
END:VEVENT

END:VCALENDAR
