BEGIN:VCALENDAR
VERSION:2.0
PRODID:-//ChamberMaster//Event Calendar 2.0//EN
METHOD:PUBLISH
X-PUBLISHED-TTL:P3D
REFRESH-INTERVAL:P3D
CALSCALE:GREGORIAN
BEGIN:VEVENT
DTSTART:20131113T180000Z
DTEND:20131113T183000Z
X-MICROSOFT-CDO-ALLDAYEVENT:FALSE
SUMMARY:Senior Star at Elmore Place Grand Reopening Ribbon Cutting
DESCRIPTION:Senior Star at Elmore Place\, located at 4500 Elmore Ave. Davenport\, IA 52807\, will host the grand reopening of its memory care community on Wednesday\, November 13 at 12:00pm.   Senior Star at Elmore Place has given its memory care community a new look by redesigning innovative activity stations used to care for residents with Alzheimer’s and other forms of dementia.  The Senior Star trademarked program is called Destination Programming. Located throughout the Senior Star community\, each station is designed to depict specific destinations that are vocational\, social or spiritual in nature and have been created to provide a sense of purpose and fulfillment by engaging residents in significant experiences of their past.  Destination Programming is dedicated to: ·         Encouraging purposeful moments·         Enhancing social interactions and providing cognitive stimulation ·         Improving positive emotions and behavior ·         Providing peace\, comfort and a strong sense of self-esteem With more than 25 new Destination Stations\, staff members who provide memory care at Senior Star remain committed to offering top quality\, innovative and best practice programs – a tribute to the entire organization’s recognition by the National Alzheimer’s Association for its advocacy.  A celebration and grand reopening commemorates this milestone for Senior Star.   Membership Manager Mike Coughlin will be speaking on behalf of the Quad Cities Chamber of Commerce.   For more information please visit www.seniorstar.com.
X-ALT-DESC;FMTTYPE=text/html:<P style="MARGIN: 0in 0in 0pt" class=MsoNormal><FONT face=Calibri>Senior Star at Elmore Place\, located at 4500 Elmore Ave. Davenport\, IA 52807\, will host the grand reopening of its memory care community on <B style="mso-bidi-font-weight: normal">Wednesday\, November 13 at 12:00pm</B>.<SPAN style="mso-spacerun: yes">&nbsp\; </SPAN><?xml:namespace prefix = o ns = "urn:schemas-microsoft-com:office:office" /><o:p></o:p></FONT></P><P style="MARGIN: 0in 0in 0pt" class=MsoNormal><o:p><FONT face=Calibri>&nbsp\;</FONT></o:p></P><P style="MARGIN: 0in 0in 0pt" class=MsoNormal><FONT face=Calibri>Senior Star at Elmore Place has given its memory care community a new look by redesigning innovative activity stations used to care for residents with Alzheimer’s and other forms of dementia.<SPAN style="mso-spacerun: yes">&nbsp\; </SPAN>The Senior Star trademarked program is called Destination Programming. Located throughout the Senior Star community\, each station is designed to depict specific destinations that are vocational\, social or spiritual in nature and have been created to provide a sense of purpose and fulfillment by engaging residents in significant experiences of their past.<SPAN style="mso-spacerun: yes">&nbsp\; </SPAN>Destination Programming is dedicated to:<o:p></o:p></FONT></P><P style="MARGIN: 0in 0in 0pt" class=MsoNormal><o:p><FONT face=Calibri>&nbsp\;</FONT></o:p></P><P style="TEXT-INDENT: -0.25in\; MARGIN: 0in 0in 0pt 0.5in\; mso-list: l0 level1 lfo1" class=MsoListParagraph><SPAN style="FONT-FAMILY: Symbol\; mso-fareast-font-family: Symbol\; mso-bidi-font-family: Symbol"><SPAN style="mso-list: Ignore">·<SPAN style="FONT: 7pt 'Times New Roman'">&nbsp\;&nbsp\;&nbsp\;&nbsp\;&nbsp\;&nbsp\;&nbsp\;&nbsp\; </SPAN></SPAN></SPAN><FONT face=Calibri>Encouraging purposeful moments<o:p></o:p></FONT></P><P style="TEXT-INDENT: -0.25in\; MARGIN: 0in 0in 0pt 0.5in\; mso-list: l0 level1 lfo1" class=MsoListParagraph><SPAN style="FONT-FAMILY: Symbol\; mso-fareast-font-family: Symbol\; mso-bidi-font-family: Symbol"><SPAN style="mso-list: Ignore">·<SPAN style="FONT: 7pt 'Times New Roman'">&nbsp\;&nbsp\;&nbsp\;&nbsp\;&nbsp\;&nbsp\;&nbsp\;&nbsp\; </SPAN></SPAN></SPAN><FONT face=Calibri>Enhancing social interactions and providing cognitive stimulation <o:p></o:p></FONT></P><P style="TEXT-INDENT: -0.25in\; MARGIN: 0in 0in 0pt 0.5in\; mso-list: l0 level1 lfo1" class=MsoListParagraph><SPAN style="FONT-FAMILY: Symbol\; mso-fareast-font-family: Symbol\; mso-bidi-font-family: Symbol"><SPAN style="mso-list: Ignore">·<SPAN style="FONT: 7pt 'Times New Roman'">&nbsp\;&nbsp\;&nbsp\;&nbsp\;&nbsp\;&nbsp\;&nbsp\;&nbsp\; </SPAN></SPAN></SPAN><FONT face=Calibri>Improving positive emotions and behavior <o:p></o:p></FONT></P><P style="TEXT-INDENT: -0.25in\; MARGIN: 0in 0in 0pt 0.5in\; mso-list: l0 level1 lfo1" class=MsoListParagraph><SPAN style="FONT-FAMILY: Symbol\; mso-fareast-font-family: Symbol\; mso-bidi-font-family: Symbol"><SPAN style="mso-list: Ignore">·<SPAN style="FONT: 7pt 'Times New Roman'">&nbsp\;&nbsp\;&nbsp\;&nbsp\;&nbsp\;&nbsp\;&nbsp\;&nbsp\; </SPAN></SPAN></SPAN><FONT face=Calibri>Providing peace\, comfort and a strong sense of self-esteem<o:p></o:p></FONT></P><P style="MARGIN: 0in 0in 0pt" class=MsoNormal><o:p><FONT face=Calibri>&nbsp\;</FONT></o:p></P><P style="MARGIN: 0in 0in 0pt" class=MsoNormal><FONT face=Calibri>With more than 25 new Destination Stations\, staff members who provide memory care at Senior Star remain committed to offering top quality\, innovative and best practice programs – a tribute to the entire organization’s recognition by the National Alzheimer’s Association for its advocacy.<SPAN style="mso-spacerun: yes">&nbsp\; </SPAN>A celebration and grand reopening commemorates this milestone for Senior Star.<SPAN style="mso-spacerun: yes">&nbsp\; </SPAN><o:p></o:p></FONT></P><P style="MARGIN: 0in 0in 0pt" class=MsoNormal><o:p><FONT face=Calibri>&nbsp\;</FONT></o:p></P><P style="MARGIN: 0in 0in 0pt" class=MsoNormal><FONT face=Calibri>Membership Manager Mike Coughlin will be speaking on behalf of the Quad Cities Chamber of Commerce.<SPAN style="mso-spacerun: yes">&nbsp\; </SPAN><o:p></o:p></FONT></P><P style="MARGIN: 0in 0in 0pt" class=MsoNormal><o:p><FONT face=Calibri>&nbsp\;</FONT></o:p></P><P style="MARGIN: 0in 0in 0pt" class=MsoNormal><FONT face=Calibri>For more information please visit </FONT><A href="http://www.seniorstar.com">www.seniorstar.com</A><FONT face=Calibri>.<SPAN style="mso-spacerun: yes">&nbsp\; </SPAN></FONT><o:p></o:p></P><P>&nbsp\;</P>
LOCATION:Senior Star at Elmore Place4500 Elmore Ave. Davenport\, IA 52807
UID:e.2843.743
SEQUENCE:3
DTSTAMP:20260421T221212Z
URL:https://member.quadcitieschamber.com/events/details/senior-star-at-elmore-place-grand-reopening-ribbon-cutting-11-13-2013-743
END:VEVENT

END:VCALENDAR
