BEGIN:VCALENDAR
VERSION:2.0
PRODID:-//ChamberMaster//Event Calendar 2.0//EN
METHOD:PUBLISH
X-PUBLISHED-TTL:P3D
REFRESH-INTERVAL:P3D
CALSCALE:GREGORIAN
BEGIN:VEVENT
DTSTART:20170812T213000Z
DTEND:20170812T223000Z
X-MICROSOFT-CDO-ALLDAYEVENT:FALSE
SUMMARY:Shilo Harris to Present at Palmer College
DESCRIPTION:Your Invited: Shilo Harris to present at Palmer College's 2017 Homecoming event! Shilo Harris\, soldier-turned-messenger uses his memoir\, Steel Will: My Journey Through Hell to Become the Man that I was Meant to Be\, to raise awareness for wounded warriors. Presents: When Life Blows Up.
X-ALT-DESC;FMTTYPE=text/html:Your Invited: Shilo Harris to present at Palmer College&#39\;s 2017 Homecoming event! Shilo Harris\, soldier-turned-messenger uses his memoir\, Steel Will: My Journey Through Hell to Become the Man that I was Meant to Be\, to raise awareness for wounded warriors. Presents: When Life Blows Up.
LOCATION:Palmer College of Chiropractic Vickie Anne Palmer Hall 115 W. 7th. St.-Davenport\, Iowa
UID:e.2843.6360
SEQUENCE:3
DTSTAMP:20260423T231436Z
URL:https://member.quadcitieschamber.com/events/details/shilo-harris-to-present-at-palmer-college-6360
END:VEVENT

END:VCALENDAR
