BEGIN:VCALENDAR
VERSION:2.0
PRODID:-//ChamberMaster//Event Calendar 2.0//EN
METHOD:PUBLISH
X-PUBLISHED-TTL:P3D
REFRESH-INTERVAL:P3D
CALSCALE:GREGORIAN
BEGIN:VEVENT
DTSTART:20171125T150000Z
DTEND:20171125T210000Z
X-MICROSOFT-CDO-ALLDAYEVENT:FALSE
SUMMARY:Shop Small with Sola: Small Business Saturday
DESCRIPTION:The Owners of Sola have come together to provide a unique shopping experience curated with several small businesses in the Quad Cities. We Cordially invite you to Shop Small and join us November 25th from 9am - 3pm. Shop Small is about more than just shopping at small businesses. It's a cause that helps to support local economies and promote vibrant\, diverse communities. It's also a nationwide movement that we invite you to be a part of. \n\nSmall businesses play a key role in helping communities thrive and we couldn't do it without you. By shopping with us throughout the year\, you're showing your support for small businesses and making a positive impact in our community. Today we come together to celebrate Small Business and assist you in kicking off your holiday shopping.\n\n\n\nVendors include:\n\n\n\nSola Salon Studios\n\nRefuge (Salon)\n\nLuxe Suite (Salon) \n\nBombshell Beckys (Salon)\n\nMama Chews Tattoo and Art Studio\n\nDoterra Essential Oils\n\nChloe and Isabelle (Jewelry) \n\nPlunder (Jewelry)\n\nTrisha K Photography-Photographer\n\nLillie's and Love Boutique- Craft Vendor\n\nN&L Designs and Creations - Craft Vendor\n\nGlam2Go- Mini Makeovers (Lipsense Offered) \n\nRodan and Fields - Skin Care\n\nDamsel in Defense- Self Defense Products \n\nLula Roe- Clothing \n\nAgnes and Dora- Clothing\n\nTastefully Simple\n\nScentsy\n\nCafe Ole will be serving beverages in their Coffee Truck.\n\n\n\nWe look forward to celebrating our Small Business Saturday with you! See you there!
X-ALT-DESC;FMTTYPE=text/html:<span style="color:rgb(29\, 33\, 41)\; font-family:helvetica\,arial\,sans-serif\; font-size:14px">The Owners of Sola have come together to provide a unique shopping experience curated with several small businesses in the Quad Cities. We Cordially invite you to Shop Small and join us&nbsp\;<span style="color:inherit\; font-family:inherit\; font-size:inherit"><strong>November 25th from 9am - 3pm</strong></span>. Shop Small is about more than just shopping at small businesses. It&rsquo\;s a cause that helps to support local economies and promote vibrant\, diverse communities. It&rsquo\;s also a nationwide movement that we invite you to be a part of.&nbsp\;</span><br />\n<span style="color:rgb(29\, 33\, 41)\; font-family:helvetica\,arial\,sans-serif\; font-size:14px">Small businesses play a key role in helping</span><span style="color:rgb(29\, 33\, 41)\; font-family:helvetica\,arial\,sans-serif\; font-size:14px">&nbsp\;communities thrive and we couldn&#39\;t do it without you. By shopping with us throughout the year\, you&rsquo\;re showing your support for small businesses and making a positive impact in our community. Today we come together to celebrate Small Business and assist you in kicking off your holiday shopping.<br />\n<br />\n<strong>Vendors include:</strong></span><br />\n<br />\n<strong><span style="color:rgb(39\, 50\, 56)\; font-family:arial\,sans-serif\; font-size:16px"><span style="color:inherit\; font-family:helvetica\,arial\,sans-serif\; font-size:14px">Sola Salon Studios</span><br />\n<span style="color:inherit\; font-family:helvetica\,arial\,sans-serif\; font-size:14px">Refuge (Salon)</span><br />\n<span style="color:inherit\; font-family:helvetica\,arial\,sans-serif\; font-size:14px">Luxe Suite (Salon)&nbsp\;</span><br />\n<span style="color:inherit\; font-family:helvetica\,arial\,sans-serif\; font-size:14px">Bombshell Beckys (Salon)</span><br />\n<span style="color:inherit\; font-family:helvetica\,arial\,sans-serif\; font-size:14px">Mama Chews Tattoo and Art Studio</span><br />\n<span style="color:inherit\; font-family:helvetica\,arial\,sans-serif\; font-size:14px">Doterra Essential Oils</span><br />\n<span style="color:inherit\; font-family:helvetica\,arial\,sans-serif\; font-size:14px">Chloe and Isabelle (Jewelry)&nbsp\;</span><br />\n<span style="color:inherit\; font-family:helvetica\,arial\,sans-serif\; font-size:14px">Plunder (Jewelry)</span><br />\n<span style="color:inherit\; font-family:helvetica\,arial\,sans-serif\; font-size:14px">Trisha K Photography-Photographer</span><br />\n<span style="color:inherit\; font-family:helvetica\,arial\,sans-serif\; font-size:14px">Lillie&#39\;s and Love Boutique- Craft Vendor</span><br />\n<span style="color:inherit\; font-family:helvetica\,arial\,sans-serif\; font-size:14px">N&amp\;L Designs and Creations - Craft Vendor</span><br />\n<span style="color:inherit\; font-family:helvetica\,arial\,sans-serif\; font-size:14px">Glam2Go- Mini Makeovers (Lipsense Offered)&nbsp\;</span><br />\n<span style="color:inherit\; font-family:helvetica\,arial\,sans-serif\; font-size:14px">Rodan and Fields - Skin Care</span><br />\n<span style="color:inherit\; font-family:helvetica\,arial\,sans-serif\; font-size:14px">Damsel in Defense- Self Defense Products</span><span style="color:inherit\; font-family:helvetica\,arial\,sans-serif\; font-size:14px">&nbsp\;</span><br />\n<span style="color:inherit\; font-family:helvetica\,arial\,sans-serif\; font-size:14px">Lula Roe- Clothing&nbsp\;</span><br />\n<span style="color:inherit\; font-family:helvetica\,arial\,sans-serif\; font-size:14px">Agnes and Dora- Clothing</span><br />\n<span style="color:inherit\; font-family:helvetica\,arial\,sans-serif\; font-size:14px">Tastefully Simple</span><br />\n<span style="color:inherit\; font-family:helvetica\,arial\,sans-serif\; font-size:14px">Scentsy</span></span><br />\n<span style="color:rgb(39\, 50\, 56)\; font-family:helvetica\,arial\,sans-serif\; font-size:14px"><span style="color:inherit\; font-family:inherit\; font-size:inherit">Cafe Ole will be serving beverages in their Coffee Truck.</span></span></strong><br />\n<br />\n<span style="color:rgb(29\, 33\, 41)\; font-family:helvetica\,arial\,sans-serif\; font-size:14px">We look forward to celebrating our Small Business Saturday with you! See you there!</span>
LOCATION:1833 52nd Ave Moline Next to but not in Southpark Mall
UID:e.2843.8827
SEQUENCE:3
DTSTAMP:20260423T195401Z
URL:https://member.quadcitieschamber.com/events/details/shop-small-with-sola-small-business-saturday-8827
END:VEVENT

END:VCALENDAR
