BEGIN:VCALENDAR
VERSION:2.0
PRODID:-//ChamberMaster//Event Calendar 2.0//EN
METHOD:PUBLISH
X-PUBLISHED-TTL:P3D
REFRESH-INTERVAL:P3D
CALSCALE:GREGORIAN
BEGIN:VEVENT
DTSTART:20120205T000000Z
DTEND:20120205T055900Z
X-MICROSOFT-CDO-ALLDAYEVENT:FALSE
SUMMARY:Silver Ball Goes Hollywood
DESCRIPTION:Enjoy an elegant evening featuring cocktails\, dinner\, a live auction and the exciting "Pick" for prizes. Stay for the After-the-Ball Bash with live entertainment and live it up in the historic Gold Room at the Hotel Blackhawk. Date: February 4\, 2012Time: 6:00 p.m.Price: $80 per person\, $300 for a package of 4\, $600 for a table of 8 Location: RiverCenter - Mississippi Hall - 6:00-9:00 p.m                 Hotel Blackhawk 9:00 p.m. – Midnight Theme: HollywoodAttire: Cocktail Pick for Prizes: $25 per pick50/50 Cash Raffle Live Auction: 6 items to be auctioned Entertainment at Hotel Blackhawk: Caught in the Act
X-ALT-DESC;FMTTYPE=text/html:<P align=left><FONT face=Arial>Enjoy an elegant evening featuring cocktails\, dinner\, a live auction and the exciting "Pick" for prizes. Stay for the After-the-Ball Bash with live entertainment and live it up in the historic Gold Room at the Hotel Blackhawk.</FONT></P><P align=left>&nbsp\;</P><P align=left><FONT face=Arial>Date: February 4\, 2012</FONT></P><P align=left><FONT face=Arial>Time: 6:00 p.m.</FONT></P><P align=left><FONT face=Arial>Price: $80 per person\, $300 for a package of 4\, $600 for a table of 8 </FONT></P><P align=left><FONT face=Arial>Location: RiverCenter - Mississippi Hall -&nbsp\;6:00-9:00 p.m</FONT></P><P align=left><FONT face=Arial>&nbsp\;&nbsp\;&nbsp\;&nbsp\;&nbsp\;&nbsp\;&nbsp\;&nbsp\;&nbsp\;&nbsp\;&nbsp\;&nbsp\;&nbsp\;&nbsp\;&nbsp\; &nbsp\;Hotel Blackhawk 9:00 p.m. – Midnight </FONT></P><P align=left><FONT face=Arial>Theme: Hollywood</FONT></P><P align=left><FONT face=Arial>Attire: Cocktail </FONT></P><P align=left><FONT face=Arial>Pick for Prizes: $25 per pick</FONT></P><P align=left><FONT face=Arial>50/50 Cash Raffle </FONT></P><P align=left><FONT face=Arial>Live Auction: 6 items to be auctioned </FONT></P><P align=left><SPAN style="FONT-FAMILY: 'Calibri'\,'sans-serif'\; FONT-SIZE: 11pt\; mso-fareast-font-family: Calibri\; mso-fareast-theme-font: minor-latin\; mso-bidi-font-family: 'Times New Roman'\; mso-ansi-language: EN-US\; mso-fareast-language: EN-US\; mso-bidi-language: AR-SA"><FONT size=3><FONT face=Arial>Entertainment at Hotel Blackhawk: Caught in the Act</FONT> </FONT></SPAN></P>
LOCATION:RiverCenter/Adler Theatre136 E 3rd Street Davenport\, IA 52801
UID:e.2843.254
SEQUENCE:3
DTSTAMP:20260422T093030Z
URL:https://member.quadcitieschamber.com/events/details/silver-ball-goes-hollywood-02-04-2012-254
END:VEVENT

END:VCALENDAR
