BEGIN:VCALENDAR
VERSION:2.0
PRODID:-//ChamberMaster//Event Calendar 2.0//EN
METHOD:PUBLISH
X-PUBLISHED-TTL:P3D
REFRESH-INTERVAL:P3D
CALSCALE:GREGORIAN
BEGIN:VEVENT
DTSTART:20120730T200000Z
DTEND:20120730T203000Z
X-MICROSOFT-CDO-ALLDAYEVENT:FALSE
SUMMARY:Silvis School District #34 (Northeast Junior High) Ribbon Cutting
DESCRIPTION:Please help the Silvis School District celebrate the new Northeast Junior High School with a ribbon cutting on Monday\, July 30th at 3:00pm.  Located at 1305 5th Avenue – John Deere Rd/Route 5 to Barstow Road/40th Street\; turn left at the light\; go to 4th Avenue and turn right. The building is centrally located in the district and has been a project in the making since 2001.  It will initially serve 200 students\, but can serve over 300 if needed.  It is geothermal.
X-ALT-DESC;FMTTYPE=text/html:<DIV style="FONT-FAMILY: Arial"><P style="MARGIN: 0in 0in 0pt" class=MsoNormal><FONT face=Calibri>Please help the Silvis School District celebrate the new Northeast Junior High School with a ribbon cutting on Monday\, July 30<SUP>th</SUP> at 3:00pm.<SPAN style="mso-spacerun: yes">&nbsp\; </SPAN>Located at 1305 5<SUP>th</SUP> Avenue – John Deere Rd/Route 5 to Barstow Road/40<SUP>th</SUP> Street\; turn left at the light\; go to 4<SUP>th</SUP> Avenue and turn right.</FONT></P><P style="MARGIN: 0in 0in 0pt" class=MsoNormal><?xml:namespace prefix = o ns = "urn:schemas-microsoft-com:office:office" /><o:p><FONT face=Calibri>&nbsp\;</FONT></o:p></P><P style="MARGIN: 0in 0in 0pt" class=MsoNormal><FONT face=Calibri>The building is centrally located in the district and has been a project in the making since 2001.<SPAN style="mso-spacerun: yes">&nbsp\; </SPAN>It will initially serve 200 students\, but can serve over 300 if needed.<SPAN style="mso-spacerun: yes">&nbsp\; </SPAN>It is geothermal.</FONT></P></DIV>
LOCATION:Silvis School District #341305 5th Avenue Silvis\, IL 61282
UID:e.2843.381
SEQUENCE:3
DTSTAMP:20260421T220825Z
URL:https://member.quadcitieschamber.com/events/details/silvis-school-district-34-northeast-junior-high-ribbon-cutting-07-30-2012-381
END:VEVENT

END:VCALENDAR
