BEGIN:VCALENDAR
VERSION:2.0
PRODID:-//ChamberMaster//Event Calendar 2.0//EN
METHOD:PUBLISH
X-PUBLISHED-TTL:P3D
REFRESH-INTERVAL:P3D
CALSCALE:GREGORIAN
BEGIN:VEVENT
DTSTART:20130418T210000Z
DTEND:20130418T213000Z
X-MICROSOFT-CDO-ALLDAYEVENT:FALSE
SUMMARY:Silvis School District (Elementary School) Ribbon Cutting
DESCRIPTION:Please help celebrate the remodel for Silvis School District #34 on Thursday\, April 18th at 4:00pm\, located at 1305 5th Avenue in Silvis – John Deere Road to Crosstown Road\, to 14th Street & turn right. They recently completed a new Junior High School over the summer\, and are now finishing a renovation of the old Junior High and turning it into the “new” George O. Barr Elementary School.   For more information about the school district\, please visit www.silvis34.org.
X-ALT-DESC;FMTTYPE=text/html:<P style="MARGIN: 0in 0in 0pt" class=MsoNormal><FONT face=Calibri>Please help celebrate the remodel for Silvis School District #34 on <B style="mso-bidi-font-weight: normal">Thursday\, April 18<SUP>th</SUP> at 4:00pm</B>\, located at 1305 5<SUP>th</SUP> Avenue in Silvis – John Deere Road to Crosstown Road\, to 14<SUP>th</SUP> Street &amp\; turn right.<?xml:namespace prefix = o ns = "urn:schemas-microsoft-com:office:office" /><o:p></o:p></FONT></P><P style="MARGIN: 0in 0in 0pt" class=MsoNormal><o:p><FONT face=Calibri>&nbsp\;</FONT></o:p></P><P style="MARGIN: 0in 0in 0pt" class=MsoNormal><FONT face=Calibri>They recently completed a new Junior High School over the summer\, and are now finishing a renovation of the old Junior High and turning it into the “new” George O. Barr Elementary School.<SPAN style="mso-spacerun: yes">&nbsp\; </SPAN><o:p></o:p></FONT></P><P style="MARGIN: 0in 0in 0pt" class=MsoNormal><o:p><FONT face=Calibri>&nbsp\;</FONT></o:p></P><P style="MARGIN: 0in 0in 0pt" class=MsoNormal><FONT face=Calibri>For more information about the school district\, please visit </FONT><A href="http://www.silvis34.org"><FONT face=Calibri>www.silvis34.org</FONT></A><FONT face=Calibri>. <o:p></o:p></FONT></P><DIV style="FONT-FAMILY: Arial">&nbsp\;</DIV>
LOCATION:Silvis School District #341305 5th Avenue Silvis\, IL 61282
UID:e.2843.551
SEQUENCE:3
DTSTAMP:20260421T120944Z
URL:https://member.quadcitieschamber.com/events/details/silvis-school-district-elementary-school-ribbon-cutting-04-18-2013-551
END:VEVENT

END:VCALENDAR
