BEGIN:VCALENDAR
VERSION:2.0
PRODID:-//ChamberMaster//Event Calendar 2.0//EN
METHOD:PUBLISH
X-PUBLISHED-TTL:P3D
REFRESH-INTERVAL:P3D
CALSCALE:GREGORIAN
BEGIN:VEVENT
DTSTART:20121116T174500Z
DTEND:20121116T181500Z
X-MICROSOFT-CDO-ALLDAYEVENT:FALSE
SUMMARY:SiS International Shop - Fair Trade Ribbon Cutting
DESCRIPTION:Please help welcome new member\, SiS International Shop – Fair Trade\, to the Chamber with a ribbon cutting on Friday\, November 16th at 11:45am.  Located at 108 E. 2nd Street in downtown Davenport – directly across from the Radisson Hotel. A fair trade gift shop with 47-55 developing nations represented in the store on any day. For more information\, please visit www.sisshops.com
X-ALT-DESC;FMTTYPE=text/html:<P style="MARGIN: 0in 0in 0pt" class=MsoNormal><FONT face=Calibri>Please help welcome new member\, SiS International Shop – Fair Trade\, to the Chamber with a ribbon cutting on Friday\, November 16<SUP>th</SUP> at 11:45am.<SPAN style="mso-spacerun: yes">&nbsp\; </SPAN>Located at 108 E. 2<SUP>nd</SUP> Street in downtown Davenport – directly across from the Radisson Hotel.</FONT></P><P style="MARGIN: 0in 0in 0pt" class=MsoNormal><?xml:namespace prefix = o ns = "urn:schemas-microsoft-com:office:office" /><o:p><FONT face=Calibri>&nbsp\;</FONT></o:p></P><P style="MARGIN: 0in 0in 0pt" class=MsoNormal><FONT face=Calibri>A fair trade gift shop with 47-55 developing nations represented in the store on any day.</FONT></P><P style="MARGIN: 0in 0in 0pt" class=MsoNormal><o:p><FONT face=Calibri>&nbsp\;</FONT></o:p></P><P style="MARGIN: 0in 0in 0pt" class=MsoNormal><FONT face=Calibri>For more information\, please visit </FONT><A href="http://www.sisshops.com">www.sisshops.com</A></P><DIV style="FONT-FAMILY: Arial">&nbsp\;</DIV>
LOCATION:SIS International Shop - Fair Trade108 E. Second Street Davenport\, IA 52801
UID:e.2843.474
SEQUENCE:3
DTSTAMP:20260421T152832Z
URL:https://member.quadcitieschamber.com/events/details/sis-international-shop-fair-trade-ribbon-cutting-11-16-2012-474
END:VEVENT

END:VCALENDAR
