BEGIN:VCALENDAR
VERSION:2.0
PRODID:-//ChamberMaster//Event Calendar 2.0//EN
METHOD:PUBLISH
X-PUBLISHED-TTL:P3D
REFRESH-INTERVAL:P3D
CALSCALE:GREGORIAN
BEGIN:VEVENT
DTSTART:20130515T163000Z
DTEND:20130515T170000Z
X-MICROSOFT-CDO-ALLDAYEVENT:FALSE
SUMMARY:Siyver Steel Ribbon Cutting
DESCRIPTION:Please help Sivyer Steel celebrate the opening of their new machine shop on Wednesday\, May 15th at 11:30am\, with an employee open house immediately following.  Located at 200 South Bellingham Road\, Bettendorf (State Street – Right on S. Bellingham) Sivyer Steel was founded in 1909 and is one of the first large steel foundries in the United States. Sivyer produces high quality\, high-volume custom castings for many manufacturing industries including the military\, recycling and mining industries.  For more information\, please visit www.sivyersteel.com.
X-ALT-DESC;FMTTYPE=text/html:<P style="MARGIN: 0in 0in 0pt" class=MsoNormal><FONT face=Calibri>Please help Sivyer Steel celebrate the opening of their new machine shop on <B style="mso-bidi-font-weight: normal">Wednesday\, May 15<SUP>th</SUP> at 11:30am</B>\, with an employee open house immediately following.<SPAN style="mso-spacerun: yes">&nbsp\; </SPAN>Located at&nbsp\;200 South Bellingham Road\, Bettendorf&nbsp\;(State Street – Right on S. Bellingham)<?xml:namespace prefix = o ns = "urn:schemas-microsoft-com:office:office" /><o:p></o:p></FONT></P><P style="MARGIN: 0in 0in 0pt" class=MsoNormal><o:p><FONT face=Calibri>&nbsp\;</FONT></o:p></P><P style="MARGIN: 0in 0in 0pt" class=MsoNormal><FONT face=Calibri>Sivyer Steel was founded in 1909 and is one of the first large steel foundries in the United States. Sivyer produces high quality\, high-volume custom castings for many manufacturing industries including the military\, recycling and mining industries. <o:p></o:p></FONT></P><P style="MARGIN: 0in 0in 0pt" class=MsoNormal><o:p><FONT face=Calibri>&nbsp\;</FONT></o:p></P><P style="MARGIN: 0in 0in 0pt" class=MsoNormal><FONT face=Calibri>For more information\, please visit </FONT><A href="http://www.sivyersteel.com">www.sivyersteel.com</A><FONT face=Calibri>.<o:p></o:p></FONT></P><DIV style="FONT-FAMILY: Arial">&nbsp\;</DIV>
LOCATION:Sivyer Steel Corporation200 South Bellingham Road Bettendorf\, IA 52722
UID:e.2843.576
SEQUENCE:3
DTSTAMP:20260421T134948Z
URL:https://member.quadcitieschamber.com/events/details/siyver-steel-ribbon-cutting-05-15-2013-576
END:VEVENT

END:VCALENDAR
