BEGIN:VCALENDAR
VERSION:2.0
PRODID:-//ChamberMaster//Event Calendar 2.0//EN
METHOD:PUBLISH
X-PUBLISHED-TTL:P3D
REFRESH-INTERVAL:P3D
CALSCALE:GREGORIAN
BEGIN:VEVENT
DTSTART:20130621T133000Z
DTEND:20130621T163000Z
X-MICROSOFT-CDO-ALLDAYEVENT:FALSE
SUMMARY:Small Business Administration Regulatory Hearing
DESCRIPTION:
X-ALT-DESC;FMTTYPE=text/html:
LOCATION:Modern Woodmen Park - Business Center209 S. Gaines Davenport\, IA 52802
UID:e.2843.602
SEQUENCE:3
DTSTAMP:20260421T134444Z
URL:https://member.quadcitieschamber.com/events/details/small-business-administration-regulatory-hearing-06-21-2013-602
END:VEVENT

END:VCALENDAR
