BEGIN:VCALENDAR
VERSION:2.0
PRODID:-//ChamberMaster//Event Calendar 2.0//EN
METHOD:PUBLISH
X-PUBLISHED-TTL:P3D
REFRESH-INTERVAL:P3D
CALSCALE:GREGORIAN
BEGIN:VEVENT
DTSTART:20140501T050000Z
DTEND:20140501T050000Z
X-MICROSOFT-CDO-ALLDAYEVENT:FALSE
SUMMARY:Small Business Government Contracting Symposium 2014
DESCRIPTION:Small Business Government Contracting Symposium 2014
X-ALT-DESC;FMTTYPE=text/html:Small Business Government Contracting Symposium 2014
LOCATION:TBD
UID:e.2843.1921
SEQUENCE:3
DTSTAMP:20260422T093300Z
URL:https://member.quadcitieschamber.com/events/details/small-business-government-contracting-symposium-2014-05-01-2014-1921
END:VEVENT

END:VCALENDAR
