BEGIN:VCALENDAR
VERSION:2.0
PRODID:-//ChamberMaster//Event Calendar 2.0//EN
METHOD:PUBLISH
X-PUBLISHED-TTL:P3D
REFRESH-INTERVAL:P3D
CALSCALE:GREGORIAN
BEGIN:VEVENT
DTSTART:20201216T180000Z
DTEND:20201216T190000Z
X-MICROSOFT-CDO-ALLDAYEVENT:FALSE
SUMMARY:Small Business Leaders & Entrepreneurs Lunch & Learn
DESCRIPTION:Designed for local small business leaders and entrepreneurs\, this series will introduce you to new methods to help launch or grow the reach and impact of your small business. Join us virtually in December to learn Digital Marketing tips and strategies for the new year with Donnie Ingram\, SAU Senior Instructional Designer and Director of Online Learning. All registered and attending participants will receive a $10 gift card to enjoy lunch while supporting our local restaurants!
X-ALT-DESC;FMTTYPE=text/html:<p><span style="color:rgb(29\, 33\, 41)\; font-family:helvetica\,arial\,sans-serif\; font-size:14px">Designed for local small business leaders and entrepreneurs\, this series will introduce you to new methods to help launch or grow the reach and impact of your small business.&nbsp\;</span>Join us virtually in December to learn Digital Marketing tips and strategies for the new year with Donnie Ingram\, SAU Senior Instructional Designer and Director of Online Learning. All registered and attending participants will receive a $10 gift card to enjoy lunch while supporting our local restaurants!</p>\n
LOCATION:Online via Zoom
UID:e.2843.17438
SEQUENCE:3
DTSTAMP:20260421T082050Z
URL:https://member.quadcitieschamber.com/events/details/small-business-leaders-entrepreneurs-lunch-learn-12-16-2020-17438
END:VEVENT

END:VCALENDAR
