BEGIN:VCALENDAR
VERSION:2.0
PRODID:-//ChamberMaster//Event Calendar 2.0//EN
METHOD:PUBLISH
X-PUBLISHED-TTL:P3D
REFRESH-INTERVAL:P3D
CALSCALE:GREGORIAN
BEGIN:VEVENT
DTSTART:20190321T170000Z
DTEND:20190321T180000Z
X-MICROSOFT-CDO-ALLDAYEVENT:FALSE
SUMMARY:Small Business Owner Luncheon
DESCRIPTION:If you own a small business or are looking to start a business\, this luncheon is designed to provide some quick tips for you. Five panelists from various areas of expertise will share ideas on how to grow your business. Lunch will be provided.
X-ALT-DESC;FMTTYPE=text/html:If you own a small business or are looking to start a business\, this luncheon is designed to provide some quick tips for you. Five panelists from various areas of expertise will share ideas on how to grow your business. Lunch will be provided.
LOCATION:Quad Cities Chamber Arconic Conference Room 331 W. Third Street\, Suite 100 Davenport\, IA 52801
UID:e.2843.13788
SEQUENCE:3
DTSTAMP:20260422T182300Z
URL:https://member.quadcitieschamber.com/events/details/small-business-owner-luncheon-13788
END:VEVENT

END:VCALENDAR
