BEGIN:VCALENDAR
VERSION:2.0
PRODID:-//ChamberMaster//Event Calendar 2.0//EN
METHOD:PUBLISH
X-PUBLISHED-TTL:P3D
REFRESH-INTERVAL:P3D
CALSCALE:GREGORIAN
BEGIN:VEVENT
DTSTART:20170801T170000Z
DTEND:20170801T180000Z
X-MICROSOFT-CDO-ALLDAYEVENT:FALSE
SUMMARY:Small Business Owner Luncheon - Ideas to Grow Your Business
DESCRIPTION:A free luncheon for small business owners and/or entrepreneurs in the Quad Cities that will consist of six panelists who will talk about how to build and grow a successful business. \n\n\n\n\n\nMatt McCombs\, CEO\, Vibrant Credit Union - Building your brand in the QCA and tips on how to build your team/staff\n\nScott Naumann\, Owner\, It's A Mystery   Running a small business in the QC and tips on communications\n\nMartha Wells\, Owner\, Wells Accounting Services LLC   Any tax strategies for small business owners to consider and/or tips on using Quick Books\n\nNicole Cline\, Training Consultant\, Dale Carnegie   How to network and become a leader\n\nBrian Goerdt\, Owner\, Arena Computer Consulting   Tips on setting up a computer network and other IT solutions\n\n \n\n\n\n\n\nPlease RSVP to Jim Wegener to save a seat. jim.wegener@thrivent.com
X-ALT-DESC;FMTTYPE=text/html:<br />\n<span style="font-family: arial\;"><span style="font-size: 16px\;">A free luncheon for small business owners and/or entrepreneurs in the Quad Cities that will consist of six panelists who will talk about how to build and grow a successful business.&nbsp\;</span></span><a name="_MailEndCompose"></a><br />\n<br />\n<br />\n<strong>Matt McCombs\, CEO\, Vibrant Credit Union - </strong>Building your brand in the QCA and tips on how to build your team/staff<br />\n<strong>Scott Naumann\, Owner\, It&rsquo\;s A Mystery </strong>&ndash\; Running a small business in the QC and tips on communications<br />\n<strong>Martha Wells\, Owner\, Wells Accounting Services LLC </strong>&ndash\; Any tax strategies for small business owners to consider and/or tips on using Quick Books<br />\n<strong>Nicole Cline\, Training Consultant\, Dale Carnegie</strong> &ndash\; How to network and become a leader<br />\n<strong>Brian Goerdt\, Owner\, Arena Computer Consulting</strong> &ndash\; Tips on setting up a computer network and other IT solutions<br />\n&nbsp\;<br />\n<br />\n<br />\n<span style="font-family: arial\;">Please RSVP to Jim Wegener to save a seat.&nbsp\;</span><span style="color:#0000FF\;"><u>jim.wegener@thrivent.com</u></span><br />\n&nbsp\;
LOCATION:Quad Cities Chamber Office 331 W. 3rd Street Davenport\, IA 52801
UID:e.2843.6309
SEQUENCE:3
DTSTAMP:20260423T232332Z
URL:https://member.quadcitieschamber.com/events/details/small-business-owner-luncheon-ideas-to-grow-your-business-6309
END:VEVENT

END:VCALENDAR
