BEGIN:VCALENDAR
VERSION:2.0
PRODID:-//ChamberMaster//Event Calendar 2.0//EN
METHOD:PUBLISH
X-PUBLISHED-TTL:P3D
REFRESH-INTERVAL:P3D
CALSCALE:GREGORIAN
BEGIN:VEVENT
DTSTART:20180712T170000Z
DTEND:20180712T180000Z
X-MICROSOFT-CDO-ALLDAYEVENT:FALSE
SUMMARY:Small Business Owners Luncheon
DESCRIPTION:A free luncheon for small business owners and/or entrepreneurs in the Quad Cities that will consist of 6 panelists who will talk about how to build and grow a successful business.\n\n\n\nThe event will start promptly at 12:00 p.m. and end by 1 p.m. and will be at the Quad Cities Chamber Davenport office in the Arconic Conference Room.\n\n\n\nPanelists include: Michael Lawrence\, Barrett Scorpil\, Jon Rasler\, Tom and Molly Hammar and David Wierman.\n\n\n\nRSVP required. Sign up via email jonathan.rasler@thrivent.com By Tuesday\, July 10th 5pm\n\nSeating is limited to 30. No financial products will be sold
X-ALT-DESC;FMTTYPE=text/html:A free luncheon for small business owners and/or entrepreneurs in the Quad Cities that will consist of 6 panelists who will talk about how to build and grow a successful business.<br />\n<br />\nThe event will start promptly at 12:00 p.m. and end by 1 p.m. and will be at the Quad Cities Chamber Davenport office in the Arconic Conference Room.<br />\n<br />\nPanelists include: Michael Lawrence\, Barrett Scorpil\, Jon Rasler\, Tom and Molly Hammar and David Wierman.<br />\n<br />\nRSVP required. Sign up via email jonathan.rasler@thrivent.com By Tuesday\, July 10th 5pm<br />\nSeating is limited to 30. No financial products will be sold
LOCATION:Quad Cities Chamber of Commerce\, 331 W. 3rd St\, Davenport\, Iowa\, 52801
UID:e.2843.13339
SEQUENCE:3
DTSTAMP:20260423T090909Z
URL:https://member.quadcitieschamber.com/events/details/small-business-owners-luncheon-13339
END:VEVENT

END:VCALENDAR
