BEGIN:VCALENDAR
VERSION:2.0
PRODID:-//ChamberMaster//Event Calendar 2.0//EN
METHOD:PUBLISH
X-PUBLISHED-TTL:P3D
REFRESH-INTERVAL:P3D
CALSCALE:GREGORIAN
BEGIN:VEVENT
DTSTART:20170913T130000Z
DTEND:20170913T143000Z
X-MICROSOFT-CDO-ALLDAYEVENT:FALSE
SUMMARY:Small Business Public Policy Input Session
DESCRIPTION:The Quad Cities Chamber actively engages with government officials on all levels to promote good politics that will help grow the Quad Cities economy.  We are interested in learning more about what is important to you and your small business\, so that we can better shape a public policy agenda that supports the needs of small businesses.
X-ALT-DESC;FMTTYPE=text/html:<span style="font-size:14px\;"><span style="color:black\;">The Quad Cities Chamber actively engages with government officials on all levels to promote good politics that will help grow the Quad Cities economy. &nbsp\;We are interested in learning more about what is important to you and your small business\, so that we can better shape a public policy agenda that supports the needs of small businesses.</span></span>
LOCATION:331 W 3rd St Davenport\, IA 52803 Arconic Room
UID:e.2843.6405
SEQUENCE:3
DTSTAMP:20260423T231823Z
URL:https://member.quadcitieschamber.com/events/details/small-business-public-policy-input-session-6405
END:VEVENT

END:VCALENDAR
