BEGIN:VCALENDAR
VERSION:2.0
PRODID:-//ChamberMaster//Event Calendar 2.0//EN
METHOD:PUBLISH
X-PUBLISHED-TTL:P3D
REFRESH-INTERVAL:P3D
CALSCALE:GREGORIAN
BEGIN:VEVENT
DTSTART:20141129T060000Z
DTEND:20141129T060000Z
X-MICROSOFT-CDO-ALLDAYEVENT:FALSE
SUMMARY:Small Business Saturday 2014
DESCRIPTION:Don't forget to go out and support your local small businesses. #prosperousQC #ShopSmallQC
X-ALT-DESC;FMTTYPE=text/html:<DIV style="FONT-FAMILY: Arial">Don't forget to go out and support your local small businesses. #prosperousQC #ShopSmallQC</DIV>
LOCATION:
UID:e.2843.937
SEQUENCE:3
DTSTAMP:20260422T231024Z
URL:https://member.quadcitieschamber.com/events/details/small-business-saturday-2014-11-29-2014-937
END:VEVENT

END:VCALENDAR
