BEGIN:VCALENDAR
VERSION:2.0
PRODID:-//ChamberMaster//Event Calendar 2.0//EN
METHOD:PUBLISH
X-PUBLISHED-TTL:P3D
REFRESH-INTERVAL:P3D
CALSCALE:GREGORIAN
BEGIN:VEVENT
DTSTART:20180523T170000Z
DTEND:20180523T180000Z
X-MICROSOFT-CDO-ALLDAYEVENT:FALSE
SUMMARY:Small Business Series: Employee Engagement Tools - How to Ignite Passion to Drive Results
DESCRIPTION:Featuring Ginny Wilson-Peters\, President & Owner\, Integrity Integrated\n\n\n\nHow can managers and owners fully engage their employees and tap into their talents? Ginny Wilson-Peters will provide tools you can use to manage the strengths of your team and help individuals navigate through their weaknesses\, as well as how to maximize your own strength. Discover the benefits your business can reap when your employees are engaged as a result of strengths-based leadership.\n\n\n\nGinny Wilson-Peters\, President & Owner of Integrity Integrated\, is a pioneering leadership coach whose work ignites others to explore new possibilities in their lives. Ginny grew up believing in the power of a dream enhanced by hard work. Today\, her personal mission derives from a call to nurture and inspire others to reach for the stars.\n\nEighteen years ago\, Ginny started her own business\, Integrity Integrated\, a leadership development and executive coaching organization that creates authentic leaders\, builds dynamic leadership teams and connects leaders around the world. Ginny currently facilitates leadership programs in Des Moines\, Cedar Rapids and the Quad Cities. She is a lecturer for the University of Iowa Tippie College of Business Executive\, Professional and International MBA programs and has taught courses in organizational management and leadership for over 18 years. She delights in working with organizations\, teams\, and individuals to create positive change. \n\n\n\n*Feel free to bring your own lunch
X-ALT-DESC;FMTTYPE=text/html:<p><strong>Featuring Ginny Wilson-Peters\, President &amp\; Owner\, Integrity Integrated</strong><br />\n<br />\nHow can managers and owners fully engage their employees and tap into their talents? Ginny Wilson-Peters will provide tools you can use to manage the strengths of your team and help individuals navigate through their weaknesses\, as well as how to maximize your own strength. Discover the benefits your business can reap when your employees are engaged as a result of strengths-based leadership.<br />\n<br />\n<strong>Ginny Wilson-Peters</strong>\, President &amp\; Owner of Integrity Integrated\, is a pioneering leadership coach whose work ignites others to explore new possibilities in their lives. Ginny grew up believing in the power of a dream enhanced by hard work. Today\, her personal mission derives from a call to nurture and inspire others to reach for the stars.</p>\n\n<p>Eighteen years ago\, Ginny started her own business\, Integrity Integrated\, a leadership development and executive coaching organization that creates authentic leaders\, builds dynamic leadership teams and connects leaders around the world. Ginny currently facilitates leadership programs in Des Moines\, Cedar Rapids and the Quad Cities. She is a lecturer for the University of Iowa Tippie College of Business Executive\, Professional and International MBA programs and has taught courses in organizational management and leadership for over 18 years. She delights in working with organizations\, teams\, and individuals to create positive change.&nbsp\;<br />\n<br />\n<strong>*Feel free to bring your own lunch&nbsp\;</strong></p>\n
LOCATION:Scott Community College Urban Campus| 101 W. 3rd Street (Rooms 116/117)\, Davenport
UID:e.2843.12141
SEQUENCE:3
DTSTAMP:20260423T111521Z
URL:https://member.quadcitieschamber.com/events/details/small-business-series-employee-engagement-tools-how-to-ignite-passion-to-drive-results-12141
END:VEVENT

END:VCALENDAR
