BEGIN:VCALENDAR
VERSION:2.0
PRODID:-//ChamberMaster//Event Calendar 2.0//EN
METHOD:PUBLISH
X-PUBLISHED-TTL:P3D
REFRESH-INTERVAL:P3D
CALSCALE:GREGORIAN
BEGIN:VEVENT
DTSTART:20180926T163000Z
DTEND:20180926T180000Z
X-MICROSOFT-CDO-ALLDAYEVENT:FALSE
SUMMARY:Small Business Series: Growth Wheel Workshop - Part One: Customer Relations
DESCRIPTION:All Quad Cities Chamber members will have access to a business growth pathway called Growth Wheel.  This pathway provides training and assistance within four key areas: customer relations / marketing and sales\, operations\, business concept and budget and finances. Through Growth Wheel workshops\, member businesses will have the ability to identify areas of potential growth and weaknesses\, and receive additional assistance to address these areas. \n\n \n\nThese training sessions are held the fourth Wednesday of every month from 11:30 AM   1:00 PM. Following the sessions\, attendees have the option to receive additional guidance through the Small Business Development Centers\, or Chamber member businesses that provide services within the areas where assistance is needed.\n\n \n\nGrowth Wheel Workshops are provided in partnership with the Iowa Small Business Center at Eastern Iowa Community Colleges and Illinois Small Business Development Center at Western Illinois University   Quad Cities
X-ALT-DESC;FMTTYPE=text/html:<span style="font-family:arial\,sans-serif\;">All Quad Cities Chamber members will have access to a business growth pathway called Growth Wheel. &nbsp\;This pathway provides training and assistance within four key areas: <strong>customer relations / marketing and sales\, operations\, business concept and budget and finances</strong>. Through Growth Wheel workshops\, member businesses will have the ability to identify areas of potential growth and weaknesses\, and receive additional assistance to address these areas. </span><br />\n&nbsp\;<br />\n<span style="font-family:arial\,sans-serif\;">These training sessions are held the fourth Wednesday of every month from 11:30 AM &ndash\; 1:00 PM. Following the sessions\, attendees have the option to receive additional guidance through the Small Business Development Centers\, or Chamber member businesses that provide services within the areas where assistance is needed.</span><br />\n&nbsp\;<br />\n<span style="font-family:arial\,sans-serif\;">Growth Wheel Workshops are provided in partnership with the Iowa Small Business Center at Eastern Iowa Community Colleges and Illinois Small Business Development Center at Western Illinois University &ndash\; Quad Cities</span><br />\n&nbsp\;
LOCATION:EICC Urban Campus 101 W. 3rd St. Room 117W and 116W Davenport\, IA 52801
UID:e.2843.13410
SEQUENCE:3
DTSTAMP:20260423T044101Z
URL:https://member.quadcitieschamber.com/events/details/small-business-series-growth-wheel-workshop-part-one-customer-relations-13410
END:VEVENT

END:VCALENDAR
