BEGIN:VCALENDAR
VERSION:2.0
PRODID:-//ChamberMaster//Event Calendar 2.0//EN
METHOD:PUBLISH
X-PUBLISHED-TTL:P3D
REFRESH-INTERVAL:P3D
CALSCALE:GREGORIAN
BEGIN:VEVENT
DTSTART:20181024T163000Z
DTEND:20181024T180000Z
X-MICROSOFT-CDO-ALLDAYEVENT:FALSE
SUMMARY:Small Business Series: Growth Wheel Workshop - Part Two : Organization
DESCRIPTION:Growth Wheel is a new resource available to help Chamber members grow their business. This four-part\, interactive program helps businesses grow through a simple\, action-oriented process. The four parts to Growth Wheel are: Customer Relations\, Organization\, Business Concept and Operations.\n\n\n\nDuring the second session focused on organization\, attendees will identify the top three to four items related organizational structure\, business alliances\, and value chain that are keep their business from growing to the next level. Through interactive coaching\, attendees will then develop actionable strategies to implement within their businesses.\n\n\n\nGrowth Wheel is a new service offered in partnership between the Small Business Development Center\, Small Business Administration\, Quad Cities Chamber\, Eastern Iowa Community Colleges and Western Illinois University   Quad Cities.
X-ALT-DESC;FMTTYPE=text/html:<span style="font-family:arial\,sans-serif\;">Growth Wheel is a new resource available to help Chamber members grow their business. This four-part\, interactive program helps businesses grow through a simple\, action-oriented process. The four parts to Growth Wheel are: Customer Relations\, Organization\, Business Concept and Operations.</span><br />\n<br />\n<span style="font-family:arial\,sans-serif\;">During the second session focused on organization\, attendees will identify the top three to four items related organizational structure\, business alliances\, and value chain that are keep their business from growing to the next level. Through interactive coaching\, attendees will then develop actionable strategies to implement within their businesses.</span><br />\n<br />\n<em><span style="font-family:arial\,sans-serif\;">Growth Wheel is a new service offered in partnership between the Small Business Development Center\, Small Business Administration\, Quad Cities Chamber\, Eastern Iowa Community Colleges and Western Illinois University &ndash\; Quad Cities.</span></em><br />\n<br />\n&nbsp\;<br />\n&nbsp\;
LOCATION:EICC Urban Campus 101 W. 3rd St. Room 117W and 116W Davenport\, IA 52801
UID:e.2843.13411
SEQUENCE:3
DTSTAMP:20260423T025903Z
URL:https://member.quadcitieschamber.com/events/details/small-business-series-growth-wheel-workshop-part-two-organization-13411
END:VEVENT

END:VCALENDAR
