BEGIN:VCALENDAR
VERSION:2.0
PRODID:-//ChamberMaster//Event Calendar 2.0//EN
METHOD:PUBLISH
X-PUBLISHED-TTL:P3D
REFRESH-INTERVAL:P3D
CALSCALE:GREGORIAN
BEGIN:VEVENT
DTSTART:20180502T130000Z
DTEND:20180502T140000Z
X-MICROSOFT-CDO-ALLDAYEVENT:FALSE
SUMMARY:Small Business Series: Marketing in the Socialsphere
DESCRIPTION:97% OF ADULTS BETWEEN THE AGES 16-64 HAVE LOGGED ONTO AT LEAST ONE SOCIAL NETWORK IN THE PAST MONTH.\n\n\n\nDiscover which social platforms and strategies work for your brand and business model. TAG's social media experts will help you re-energize your social strategy during our interactive presentation that will cover everything from Facebook to Snapchat\, advertising\, and even how to translate your customer service model to the social sphere. TAG's team is ready to equip your business with the knowledge and tools to create a stand-out social presence for your brand.\n\n \n\nYou'll learn:\n\n	Advertising tactics\n	Best practices by platform\n	How to stand out on social and cut through the clutter\n	Social media customer service expectations\n	How to identify which platforms and strategies fit your business\n	The best social platforms to reach your target audience\n\nFeaturing: Anne Spoden Kiss\, Vice President of Digital Services\, Olivia Cronin\, A/V Producer\, Social Media Strategist and Data Analyst\n\n\n\nAnne Spoden Kiss: A Business Marketing & Management graduate of Augustana College\, Anne serves as VP of Digital Services at TAG. She strategizes with clients to build innovative lead generation strategies that not only attract and retain customers\, but also engages\, supports\, informs and builds brand loyalty among their target demographic via social media platforms. Anne produces and positions authentic and valuable content through social media marketing\, setting clients up to be thought leaders in their industry.\n\n\n\nOlivia Cronin manages the social media marketing for many of TAG's largest accounts across multiple industries.  Olivia Cronin and Anne Spoden also host the popular YouTube offering\,  "Donuts & Digital."  D&D takes a sometimes irreverent\, often amusing and always informative look at the latest trends in digital marketing.
X-ALT-DESC;FMTTYPE=text/html:<strong>97% OF ADULTS BETWEEN THE AGES 16-64 HAVE LOGGED ONTO AT LEAST ONE SOCIAL NETWORK IN THE PAST MONTH.</strong><br />\n<br />\nDiscover which social platforms and strategies work for your brand and business model. TAG&rsquo\;s social media experts will help you re-energize your social strategy during our interactive presentation that will cover everything from Facebook to Snapchat\, advertising\, and even how to translate your customer service model to the social sphere. TAG&rsquo\;s team is ready to equip your business with the knowledge and tools to create a stand-out social presence for your brand.<br />\n&nbsp\;<br />\n<strong>You&rsquo\;ll learn:</strong>\n<ul>\n	<li>Advertising tactics</li>\n	<li>Best practices by platform</li>\n	<li>How to stand out on social and cut through the clutter</li>\n	<li>Social media customer service expectations</li>\n	<li>How to identify which platforms and strategies fit your business</li>\n	<li>The best social platforms to reach your target audience</li>\n</ul>\nFeaturing: Anne Spoden Kiss\, Vice President of Digital Services\, Olivia Cronin\, A/V Producer\, Social Media Strategist and Data Analyst<br />\n<br />\n<strong>Anne Spoden Kiss</strong>: A Business Marketing &amp\; Management graduate of Augustana College\, Anne serves as VP of Digital Services at TAG. She strategizes with clients to build innovative lead generation strategies that not only attract and retain customers\, but also engages\, supports\, informs and builds brand loyalty among their target demographic via social media platforms. Anne produces and positions authentic and valuable content through social media marketing\, setting clients up to be thought leaders in their industry.<br />\n<br />\n<strong>Olivia Cronin</strong> manages the social media marketing for many of TAG&rsquo\;s largest accounts across multiple industries.&nbsp\; Olivia Cronin and Anne Spoden also host the popular YouTube offering\, &nbsp\;&ldquo\;Donuts &amp\; Digital.&rdquo\;&nbsp\; D&amp\;D takes a sometimes irreverent\, often amusing and always informative look at the latest trends in digital marketing.<br />\n&nbsp\;
LOCATION:Quad City Botanical Center| 2525 4th Avenue\, Rock Island 61201
UID:e.2843.12139
SEQUENCE:3
DTSTAMP:20260423T111156Z
URL:https://member.quadcitieschamber.com/events/details/small-business-series-marketing-in-the-socialsphere-12139
END:VEVENT

END:VCALENDAR
