BEGIN:VCALENDAR
VERSION:2.0
PRODID:-//ChamberMaster//Event Calendar 2.0//EN
METHOD:PUBLISH
X-PUBLISHED-TTL:P3D
REFRESH-INTERVAL:P3D
CALSCALE:GREGORIAN
BEGIN:VEVENT
DTSTART:20181010T170000Z
DTEND:20181010T180000Z
X-MICROSOFT-CDO-ALLDAYEVENT:FALSE
SUMMARY:Small Business Series: Planning for the New Qualified Business Income Deduction - What's in it for Your Pass-Through?
DESCRIPTION:Planning for the New Qualified Business Income Deduction - What's in it for Your Pass-Through?\n\nFeaturing Kevin Santry\, Santry 360\n\n\n\nHow can your business benefit from the new qualified business income deduction? Within the Tax Cuts and Jobs Act (TCJA)\, there was a new provision that was included as a way to provide benefit for businesses including partnerships / LLCs\, S Corporations\, and sole proprietors that wouldn't otherwise qualify from tax cut rates. The largest benefit of this new provision is that businesses will potentially receive a deduction up to 20% of their taxable business revenue. However\, there are multiple limitations that make this provision more complicated than it appears. This\, combined with changes related to property tax deductions\, income tax deductions\, and elimination of exemptions\, could have significant impact on businesses. During this examples-based presentation\, guests will get clarity on the new rules\, and the benefits and challenges of the new law.
X-ALT-DESC;FMTTYPE=text/html:<strong><span style="color:#002060\;"><span style="font-family:arial\,sans-serif\;"><span style="font-size:12.0pt\;">Planning for the New Qualified Business Income Deduction - What&#39\;s in it for Your Pass-Through?</span></span></span></strong><br />\n<strong><span style="font-family:arial\,sans-serif\;">Featuring Kevin Santry\, Santry 360</span></strong><br />\n<br />\n<span style="font-family:arial\;">How can your business benefit from the new qualified business income deduction? Within the Tax Cuts and Jobs Act (TCJA)\, there was a new provision that was included as a way to provide benefit for businesses including partnerships / LLCs\, S Corporations\, and sole proprietors that wouldn&rsquo\;t otherwise qualify from tax cut rates. The largest benefit of this new provision is that businesses will potentially receive a deduction up to 20% of their taxable business revenue. However\, there are multiple limitations that make this provision more complicated than it appears. This\, combined with changes related to property tax deductions\, income tax deductions\, and elimination of exemptions\, could have significant impact on businesses. During this examples-based presentation\, guests will get clarity on the new rules\, and the benefits and challenges of the new law.</span><br />\n<br />\n&nbsp\;
LOCATION:EICC Urban Campus 101 W. 3rd St. Room 117W and 116W Davenport\, IA 52801
UID:e.2843.13488
SEQUENCE:3
DTSTAMP:20260423T044402Z
URL:https://member.quadcitieschamber.com/events/details/small-business-series-planning-for-the-new-qualified-business-income-deduction-what-s-in-it-for-your-pass-through-13488
END:VEVENT

END:VCALENDAR
